BEGIN:VCALENDAR
VERSION:2.0
PRODID:-//Manhattan DD Council - ECPv6.15.18//NONSGML v1.0//EN
CALSCALE:GREGORIAN
METHOD:PUBLISH
X-ORIGINAL-URL:https://www.manhattanddcouncil.org
X-WR-CALDESC:Events for Manhattan DD Council
REFRESH-INTERVAL;VALUE=DURATION:PT1H
X-Robots-Tag:noindex
X-PUBLISHED-TTL:PT1H
BEGIN:VTIMEZONE
TZID:America/New_York
BEGIN:DAYLIGHT
TZOFFSETFROM:-0500
TZOFFSETTO:-0400
TZNAME:EDT
DTSTART:20220313T070000
END:DAYLIGHT
BEGIN:STANDARD
TZOFFSETFROM:-0400
TZOFFSETTO:-0500
TZNAME:EST
DTSTART:20221106T060000
END:STANDARD
BEGIN:DAYLIGHT
TZOFFSETFROM:-0500
TZOFFSETTO:-0400
TZNAME:EDT
DTSTART:20230312T070000
END:DAYLIGHT
BEGIN:STANDARD
TZOFFSETFROM:-0400
TZOFFSETTO:-0500
TZNAME:EST
DTSTART:20231105T060000
END:STANDARD
BEGIN:DAYLIGHT
TZOFFSETFROM:-0500
TZOFFSETTO:-0400
TZNAME:EDT
DTSTART:20240310T070000
END:DAYLIGHT
BEGIN:STANDARD
TZOFFSETFROM:-0400
TZOFFSETTO:-0500
TZNAME:EST
DTSTART:20241103T060000
END:STANDARD
END:VTIMEZONE
BEGIN:VEVENT
DTSTART;TZID=America/New_York:20230531T000000
DTEND;TZID=America/New_York:20230531T235959
DTSTAMP:20260425T140233
CREATED:20230518T184721Z
LAST-MODIFIED:20230518T184724Z
UID:21578-1685491200-1685577599@www.manhattanddcouncil.org
SUMMARY:Manhattan Family & Provider Information Committee Meeting
DESCRIPTION:How waiver services are obtained: SARF\, RSA\, NOD and Units \n\n\n\nCome join us to learn more about the steps necessary to be approved for\, apply for\, and finally access waiver services. The presentation will provide an overview of the initial steps through the point of working with provider agencies. Our objective is for people we support\, their families\, care managers and the providers to all have a more streamlined view of service access.  \n\n\n\nMore info coming soon!
URL:https://www.manhattanddcouncil.org/event/manhattan-family-provider-information-committee-meeting-4/
LOCATION:NY
END:VEVENT
END:VCALENDAR