BEGIN:VCALENDAR
VERSION:2.0
PRODID:-//Manhattan DD Council - ECPv6.15.18//NONSGML v1.0//EN
CALSCALE:GREGORIAN
METHOD:PUBLISH
X-WR-CALNAME:Manhattan DD Council
X-ORIGINAL-URL:https://www.manhattanddcouncil.org
X-WR-CALDESC:Events for Manhattan DD Council
REFRESH-INTERVAL;VALUE=DURATION:PT1H
X-Robots-Tag:noindex
X-PUBLISHED-TTL:PT1H
BEGIN:VTIMEZONE
TZID:America/New_York
BEGIN:DAYLIGHT
TZOFFSETFROM:-0500
TZOFFSETTO:-0400
TZNAME:EDT
DTSTART:20220313T070000
END:DAYLIGHT
BEGIN:STANDARD
TZOFFSETFROM:-0400
TZOFFSETTO:-0500
TZNAME:EST
DTSTART:20221106T060000
END:STANDARD
BEGIN:DAYLIGHT
TZOFFSETFROM:-0500
TZOFFSETTO:-0400
TZNAME:EDT
DTSTART:20230312T070000
END:DAYLIGHT
BEGIN:STANDARD
TZOFFSETFROM:-0400
TZOFFSETTO:-0500
TZNAME:EST
DTSTART:20231105T060000
END:STANDARD
BEGIN:DAYLIGHT
TZOFFSETFROM:-0500
TZOFFSETTO:-0400
TZNAME:EDT
DTSTART:20240310T070000
END:DAYLIGHT
BEGIN:STANDARD
TZOFFSETFROM:-0400
TZOFFSETTO:-0500
TZNAME:EST
DTSTART:20241103T060000
END:STANDARD
END:VTIMEZONE
BEGIN:VEVENT
DTSTART;TZID=America/New_York:20230718T090000
DTEND;TZID=America/New_York:20230718T153000
DTSTAMP:20260425T121923
CREATED:20230707T184830Z
LAST-MODIFIED:20230707T185620Z
UID:21600-1689670800-1689694200@www.manhattanddcouncil.org
SUMMARY:Free Conference: Aging in the Intellectual/Developmental Disabilities Community
DESCRIPTION:The Developmental Disabilities Councils of the Five Boroughs Present: \n\n\n\nA VIRTUAL CONFERENCE: \n\n\n\n \n\n\n\n\nAging in the Intellectual/Developmental Disabilities Community\n\n\n\nTuesday\, July 18\, 2023\n\n\n\nLa traducción estará disponible en español. \n\n\n\n将提供普通话翻译 \n\n\n\n\nEvent Flyer with Zoom Links & QR Codes\n\n\n\n \n\n\n\n\n\n\n\nConference Agenda and Zoom Access Links\n\n\n\nWelcome 9:00am – 9:15am \n\n\n\n \n\n\n\nWelcome from the Leadership of the Developmental Disabilities CouncilsOpening Remarks: Donna Corrado\, Former Commissioner of the New York City Department for the Aging \n\n\n\nClick Here ➔ https://qsac.zoom.us/j/83705825076 \n\n\n\n \n\n\n\nKeynote Panel 9:15am – 10:30am \n\n\n\nAging and Healthcare for Individuals with I/DD as well as aDiscussion about LEND Programs (Leadership Education in Neurodevelopmentaland other related Disabilities) \n\n\n\nDr. Lisa Shulman\, Professor of Pediatrics\, Albert Einstein College of Medicine; Interim Director\, Rose F. Kennedy Children’s Evaluation & Rehabilitation Center at Montefiore\,; and Director\, Rose F Kennedy LEND ProgramDr. Vincent SiasocoAssistant Professor of Pediatrics\, Albert Einstein College of Medicine; Assistant Professor of Family and Social Medicine\, Albert Einstein College of Medicine; Director\, Adult Primary Care and Community Demonstration Model Training; Rose F. Kennedy University Center for Excellence in Developmental Disabilities Children’s Evaluation and Rehabilitation Center (CERC) at Einstein/MontefioreMichelle S. Ballan\, PhD\, Professor and Associate Dean for Research\, School of Social Welfare\, Stony Brook University; Professor\, Department of Family\, Population & Preventive Medicine\, Stony Brook University; and Faculty Affiliate\, Institute for Advanced Computational ScienceChristine Barker\, Self-Advocate \n\n\n\nClick Here ➔ https://qsac.zoom.us/j/83705825076 \n\n\n\n \n\n\n\nWorkshops 10:45am – 12:00pm \n\n\n\nSafety Skills\, Staff Training and Community Inclusion \n\n\n\nDr. Peter Gerhardt\, Ed.D.\, Executive Director\, EPIC SchoolDr. Natalie Driscoll\, NeuroCare\, Seven Hills Foundation \n\n\n\nClick Here ➔ https://qsac.zoom.us/j/88110877859 \n\n\n\n  \n\n\n\n \n\n\n\nHealthy Aging with Intellectual and Developmental Disabilities \n\n\n\nDr. Fred Wetzel \n\n\n\nClick Here ➔ https://qsac.zoom.us/j/81359069542 \n\n\n\n \n\n\n\nWorkshops 12:30pm – 1:45pm \n\n\n\nEstate Planning and Special Needs Trusts \n\n\n\nJoe Parisi\, CLU®\, ChFC®\, RHU\, LUTCFJames Burdi\, Esq.\, Vishnick\, McGovern\, Milizio LLP \n\n\n\nClick Here ➔ https://qsac.zoom.us/j/87290504257 \n\n\n\nAging Adults: Unique Changes Requiring a Unique Approach \n\n\n\nLucille Golembiewski\, RN Administrator\, Birch Family ServicesLori Volpe\, PhD\, Coordinator Autism Services\, Birch Family ServicesDeniz Altan\, MS Ed Psychology Administrator\, Birch Family ServicesLisa Sterrantino\, Senior Vice President\, Birch Family Services \n\n\n\nClick Here ➔ https://qsac.zoom.us/j/84694823421 \n\n\n\n \n\n\n\nClosing Session 2:00pm – 3:15pm \n\n\n\nAging and Autism: Understanding and Planning for the Needs of Older Adults with ASD \n\n\n\nJoanne Gerenser\, Ph.D.\, Executive Director\, The Eden II ProgramsRandy Horowitz\, M.S.Ed.\, S.A.S.\, Associate Executive Director\, The Eden II ProgramsAnnmarie Itgen\, M.S.Ed\, BCBA\, LBA\, Director of Adult Program Development and Social Enterprise\, The Eden II Programs \n\n\n\nClick Here ➔ https://qsac.zoom.us/j/89124509134 \n\n\n\n \n\n\n\nUnable to attend the conference?All sessions are being recorded and will be available on-demand after the conference.Additional details will be distributed via email once the recordings are live. \n\n\n\n \n\n\n\nThis conference is presented by the five borough level Developmental Disabilities Councils
URL:https://www.manhattanddcouncil.org/event/manhattan-dd-council-meeting-10-2/
LOCATION:NY
END:VEVENT
END:VCALENDAR