BEGIN:VCALENDAR
VERSION:2.0
PRODID:-//Manhattan DD Council - ECPv6.15.18//NONSGML v1.0//EN
CALSCALE:GREGORIAN
METHOD:PUBLISH
X-ORIGINAL-URL:https://www.manhattanddcouncil.org
X-WR-CALDESC:Events for Manhattan DD Council
REFRESH-INTERVAL;VALUE=DURATION:PT1H
X-Robots-Tag:noindex
X-PUBLISHED-TTL:PT1H
BEGIN:VTIMEZONE
TZID:America/New_York
BEGIN:DAYLIGHT
TZOFFSETFROM:-0500
TZOFFSETTO:-0400
TZNAME:EDT
DTSTART:20220313T070000
END:DAYLIGHT
BEGIN:STANDARD
TZOFFSETFROM:-0400
TZOFFSETTO:-0500
TZNAME:EST
DTSTART:20221106T060000
END:STANDARD
BEGIN:DAYLIGHT
TZOFFSETFROM:-0500
TZOFFSETTO:-0400
TZNAME:EDT
DTSTART:20230312T070000
END:DAYLIGHT
BEGIN:STANDARD
TZOFFSETFROM:-0400
TZOFFSETTO:-0500
TZNAME:EST
DTSTART:20231105T060000
END:STANDARD
BEGIN:DAYLIGHT
TZOFFSETFROM:-0500
TZOFFSETTO:-0400
TZNAME:EDT
DTSTART:20240310T070000
END:DAYLIGHT
BEGIN:STANDARD
TZOFFSETFROM:-0400
TZOFFSETTO:-0500
TZNAME:EST
DTSTART:20241103T060000
END:STANDARD
END:VTIMEZONE
BEGIN:VEVENT
DTSTART;TZID=America/New_York:20231011T100000
DTEND;TZID=America/New_York:20231011T120000
DTSTAMP:20260425T075619
CREATED:20230920T020736Z
LAST-MODIFIED:20231002T022457Z
UID:21843-1697018400-1697025600@www.manhattanddcouncil.org
SUMMARY:Manhattan Transition Committee Meeting
DESCRIPTION:Navigating Adult Services for Youth with Intellectual & Developmental Disabilities\n\n\n\nhttps://zoom.us/j/98272167414 \n\n\n\nMeeting ID: 982 7216 7414 \n\n\n\nOne tap mobile: +16469313860\,\,98272167414# \n\n\n\nCome learn about transition planning and the services available through NY State Office for People with Developmental Disabilities (OPWDD)\, including supported employment services\, day habilitation programs and more. We’ll discuss: \n\n\n\n\nWhat services are available after high school\n\n\n\n\n\nHow you can successfully navigate the system\n\n\n\n\n\nUnique challenges and solutions\n\n\n\n\nWe will also have space for open discussion and networking for families\, school staff\, service provider agency representatives and others to discuss areas of interest and needs to better support youth in transition. All are welcome to join! \n\n\n\nIf you have any questions please feel free to contact us: \n\n\n\nDavid Summers\, AHRC NYC\, david.summers@ahrcnyc.orgAndrew Harris\, P138M\, aharris27@schools.nyc.gov
URL:https://www.manhattanddcouncil.org/event/manhattan-transition-committee-meeting-2/
LOCATION:NY
END:VEVENT
END:VCALENDAR