BEGIN:VCALENDAR
VERSION:2.0
PRODID:-//Manhattan DD Council - ECPv6.15.18//NONSGML v1.0//EN
CALSCALE:GREGORIAN
METHOD:PUBLISH
X-ORIGINAL-URL:https://www.manhattanddcouncil.org
X-WR-CALDESC:Events for Manhattan DD Council
REFRESH-INTERVAL;VALUE=DURATION:PT1H
X-Robots-Tag:noindex
X-PUBLISHED-TTL:PT1H
BEGIN:VTIMEZONE
TZID:America/New_York
BEGIN:DAYLIGHT
TZOFFSETFROM:-0500
TZOFFSETTO:-0400
TZNAME:EDT
DTSTART:20230312T070000
END:DAYLIGHT
BEGIN:STANDARD
TZOFFSETFROM:-0400
TZOFFSETTO:-0500
TZNAME:EST
DTSTART:20231105T060000
END:STANDARD
BEGIN:DAYLIGHT
TZOFFSETFROM:-0500
TZOFFSETTO:-0400
TZNAME:EDT
DTSTART:20240310T070000
END:DAYLIGHT
BEGIN:STANDARD
TZOFFSETFROM:-0400
TZOFFSETTO:-0500
TZNAME:EST
DTSTART:20241103T060000
END:STANDARD
BEGIN:DAYLIGHT
TZOFFSETFROM:-0500
TZOFFSETTO:-0400
TZNAME:EDT
DTSTART:20250309T070000
END:DAYLIGHT
BEGIN:STANDARD
TZOFFSETFROM:-0400
TZOFFSETTO:-0500
TZNAME:EST
DTSTART:20251102T060000
END:STANDARD
END:VTIMEZONE
BEGIN:VEVENT
DTSTART;TZID=America/New_York:20240312T130000
DTEND;TZID=America/New_York:20240312T143000
DTSTAMP:20260425T000602
CREATED:20240228T135958Z
LAST-MODIFIED:20240228T145700Z
UID:22034-1710248400-1710253800@www.manhattanddcouncil.org
SUMMARY:IAC Meeting: Managed Care
DESCRIPTION:Is Managed Care on the Horizon?\nWhat Is Integrated Care?\nWhat’s the Difference?\nIAC invites you to join us to discuss the Integrated Care Model of service delivery\, and to get your feedback. Please join us\, and forward to your family groups. \nThank you and we look forward to an informative discussion\, \nTuesday\, March 12th\n1:00pm-2:30pm\nWini Schiff \nJoin Zoom Meeting \nTo call in\, click here
URL:https://www.manhattanddcouncil.org/event/iac-meeting-managed-care/
LOCATION:Via Zoom\, United States
END:VEVENT
END:VCALENDAR