BEGIN:VCALENDAR
VERSION:2.0
PRODID:-//Manhattan DD Council - ECPv6.15.18//NONSGML v1.0//EN
CALSCALE:GREGORIAN
METHOD:PUBLISH
X-WR-CALNAME:Manhattan DD Council
X-ORIGINAL-URL:https://www.manhattanddcouncil.org
X-WR-CALDESC:Events for Manhattan DD Council
REFRESH-INTERVAL;VALUE=DURATION:PT1H
X-Robots-Tag:noindex
X-PUBLISHED-TTL:PT1H
BEGIN:VTIMEZONE
TZID:America/New_York
BEGIN:DAYLIGHT
TZOFFSETFROM:-0500
TZOFFSETTO:-0400
TZNAME:EDT
DTSTART:20230312T070000
END:DAYLIGHT
BEGIN:STANDARD
TZOFFSETFROM:-0400
TZOFFSETTO:-0500
TZNAME:EST
DTSTART:20231105T060000
END:STANDARD
BEGIN:DAYLIGHT
TZOFFSETFROM:-0500
TZOFFSETTO:-0400
TZNAME:EDT
DTSTART:20240310T070000
END:DAYLIGHT
BEGIN:STANDARD
TZOFFSETFROM:-0400
TZOFFSETTO:-0500
TZNAME:EST
DTSTART:20241103T060000
END:STANDARD
BEGIN:DAYLIGHT
TZOFFSETFROM:-0500
TZOFFSETTO:-0400
TZNAME:EDT
DTSTART:20250309T070000
END:DAYLIGHT
BEGIN:STANDARD
TZOFFSETFROM:-0400
TZOFFSETTO:-0500
TZNAME:EST
DTSTART:20251102T060000
END:STANDARD
END:VTIMEZONE
BEGIN:VEVENT
DTSTART;TZID=America/New_York:20240508T100000
DTEND;TZID=America/New_York:20240508T120000
DTSTAMP:20260424T212950
CREATED:20240506T003053Z
LAST-MODIFIED:20240506T005517Z
UID:22084-1715162400-1715169600@www.manhattanddcouncil.org
SUMMARY:Manhattan Family & Provider Information Committee Meeting
DESCRIPTION:Manhattan Family & Provider Information Committee Meeting\nMay 8th @ 10:00 AM – 12:00 PM\nJoin Zoom Meeting: https://us06web.zoom.us/j/89301405064?pwd=FWwedvAfb7ejNHa47uqkwakOUPCbJu.1 \nMeeting ID: 893 0140 5064 \nPasscode: 389488 \n“Crisis Situations: Resources and who can help” \nA review of some frequently encountered crisis situations and a guide for who/what can provide support and assistance \n  \nIf you have any questions\, please feel free to contact us: \nWendy De Leon\, wdeleon@adaptcommunitynetwork.org \nLuisa Eusse-Roché\, leusse-roche@caredesignny.org
URL:https://www.manhattanddcouncil.org/event/manhattan-family-provider-information-committee-meeting-2-2/
LOCATION:Via Zoom\, United States
END:VEVENT
END:VCALENDAR