BEGIN:VCALENDAR
VERSION:2.0
PRODID:-//Manhattan DD Council - ECPv6.15.18//NONSGML v1.0//EN
CALSCALE:GREGORIAN
METHOD:PUBLISH
X-WR-CALNAME:Manhattan DD Council
X-ORIGINAL-URL:https://www.manhattanddcouncil.org
X-WR-CALDESC:Events for Manhattan DD Council
REFRESH-INTERVAL;VALUE=DURATION:PT1H
X-Robots-Tag:noindex
X-PUBLISHED-TTL:PT1H
BEGIN:VTIMEZONE
TZID:America/New_York
BEGIN:DAYLIGHT
TZOFFSETFROM:-0500
TZOFFSETTO:-0400
TZNAME:EDT
DTSTART:20230312T070000
END:DAYLIGHT
BEGIN:STANDARD
TZOFFSETFROM:-0400
TZOFFSETTO:-0500
TZNAME:EST
DTSTART:20231105T060000
END:STANDARD
BEGIN:DAYLIGHT
TZOFFSETFROM:-0500
TZOFFSETTO:-0400
TZNAME:EDT
DTSTART:20240310T070000
END:DAYLIGHT
BEGIN:STANDARD
TZOFFSETFROM:-0400
TZOFFSETTO:-0500
TZNAME:EST
DTSTART:20241103T060000
END:STANDARD
BEGIN:DAYLIGHT
TZOFFSETFROM:-0500
TZOFFSETTO:-0400
TZNAME:EDT
DTSTART:20250309T070000
END:DAYLIGHT
BEGIN:STANDARD
TZOFFSETFROM:-0400
TZOFFSETTO:-0500
TZNAME:EST
DTSTART:20251102T060000
END:STANDARD
END:VTIMEZONE
BEGIN:VEVENT
DTSTART;TZID=America/New_York:20241203T100000
DTEND;TZID=America/New_York:20241203T100000
DTSTAMP:20260424T110246
CREATED:20241113T014036Z
LAST-MODIFIED:20241119T003637Z
UID:22243-1733220000-1733220000@www.manhattanddcouncil.org
SUMMARY:Manhattan Family Support Services Advisory Council Meeting
DESCRIPTION:Travel Training 101\n\nPresented by:\nStephanie Rozanski and Lisa Kornegay\nfrom YAI\nIn this webinar\, you will hear an in-depth overview of a structured travel training program tailored for individuals with intellectual and/or developmental disabilities ages 14 and up. Attendees will learn the stages of training and how to teach some of the critical skills required with a special focus on traveling with strangers. \nYou’ll also learn about the comprehensive services YAI offers to empower individuals who want to learn independent travel \, navigating New York City with confidence. Whether you’re a parent\, caregiver\, or advocate\, this session is a valuable opportunity to gain insights and tools to support independent travel for people with IDD. \n  \nRegistration Link: \nhttps://zoom.us/meeting/register/tJwud-qppz0iGNB-iwhG5QnVEC6luqlN019n
URL:https://www.manhattanddcouncil.org/event/manhattan-family-support-services-advisory-council-meeting-5/
LOCATION:NY
END:VEVENT
END:VCALENDAR