BEGIN:VCALENDAR
VERSION:2.0
PRODID:-//Manhattan DD Council - ECPv6.15.18//NONSGML v1.0//EN
CALSCALE:GREGORIAN
METHOD:PUBLISH
X-ORIGINAL-URL:https://www.manhattanddcouncil.org
X-WR-CALDESC:Events for Manhattan DD Council
REFRESH-INTERVAL;VALUE=DURATION:PT1H
X-Robots-Tag:noindex
X-PUBLISHED-TTL:PT1H
BEGIN:VTIMEZONE
TZID:America/New_York
BEGIN:DAYLIGHT
TZOFFSETFROM:-0500
TZOFFSETTO:-0400
TZNAME:EDT
DTSTART:20230312T070000
END:DAYLIGHT
BEGIN:STANDARD
TZOFFSETFROM:-0400
TZOFFSETTO:-0500
TZNAME:EST
DTSTART:20231105T060000
END:STANDARD
BEGIN:DAYLIGHT
TZOFFSETFROM:-0500
TZOFFSETTO:-0400
TZNAME:EDT
DTSTART:20240310T070000
END:DAYLIGHT
BEGIN:STANDARD
TZOFFSETFROM:-0400
TZOFFSETTO:-0500
TZNAME:EST
DTSTART:20241103T060000
END:STANDARD
BEGIN:DAYLIGHT
TZOFFSETFROM:-0500
TZOFFSETTO:-0400
TZNAME:EDT
DTSTART:20250309T070000
END:DAYLIGHT
BEGIN:STANDARD
TZOFFSETFROM:-0400
TZOFFSETTO:-0500
TZNAME:EST
DTSTART:20251102T060000
END:STANDARD
END:VTIMEZONE
BEGIN:VEVENT
DTSTART;TZID=America/New_York:20241211T100000
DTEND;TZID=America/New_York:20241211T120000
DTSTAMP:20260424T110244
CREATED:20240917T120501Z
LAST-MODIFIED:20241112T135457Z
UID:22159-1733911200-1733918400@www.manhattanddcouncil.org
SUMMARY:Manhattan Transition Committee Meeting
DESCRIPTION:Manhattan Transition Committee Meeting\n\n\n \nWednesday\, December 11th @ 10:00AM\nHybrid Meeting (In-Person & Virtual Options)\n  \nDownload Flyer\n\n\n \n \nJoin In-Person:\n\nSinergia \n2082 Lexington Ave\, 4th Floor\, NY\, NY 10035 \n  \n\nJoin Virtually:\n \n\nhttps://us06web.zoom.us/j/87234325224?pwd=yWjuCsH1dUBJHZ1dMfCn6ZYb3KPlHV.1\n \nMeeting ID: 872 3432 5224 \nPasscode: 144248\n\n \n\nGuest Presentation (In-Person & Virtual):\n\n10:00-11:00am\n \nFuture Planning\n \n\nwith \nPaola Martinez Boone\, MSW \nSenior Advocate & Special Education Coordinator \nNY Lawyers for the Public Interest \n\n \nLearn About:\nSupported Decision Making \nPower of Attorney & Health Care Proxy \nTrusts & ABLE Accounts \nGuardianship \n& More \n  \nNetworking Time (In-Person Only):\n11:00-11:30am\n \nMeet with representatives of adult service provider agencies:\n  \nLearn about adult programs & services & Meet people who can help! \n  \nHope to see you there! \n  \nIf you have any questions please feel free to contact us: \nAndrew Harris\, P138M\, aharris27@schools.nyc.gov \n\n\n \nPat Liu Chang\, GHO\, pat@ghoinc.org \n  \nmanhattan-transition-committee-12-11-24-flyer\nDownload Flyer
URL:https://www.manhattanddcouncil.org/event/manhattan-transition-committee-meeting-4-2-3/
LOCATION:NY
END:VEVENT
END:VCALENDAR