BEGIN:VCALENDAR
VERSION:2.0
PRODID:-//Manhattan DD Council - ECPv6.15.18//NONSGML v1.0//EN
CALSCALE:GREGORIAN
METHOD:PUBLISH
X-WR-CALNAME:Manhattan DD Council
X-ORIGINAL-URL:https://www.manhattanddcouncil.org
X-WR-CALDESC:Events for Manhattan DD Council
REFRESH-INTERVAL;VALUE=DURATION:PT1H
X-Robots-Tag:noindex
X-PUBLISHED-TTL:PT1H
BEGIN:VTIMEZONE
TZID:America/New_York
BEGIN:DAYLIGHT
TZOFFSETFROM:-0500
TZOFFSETTO:-0400
TZNAME:EDT
DTSTART:20240310T070000
END:DAYLIGHT
BEGIN:STANDARD
TZOFFSETFROM:-0400
TZOFFSETTO:-0500
TZNAME:EST
DTSTART:20241103T060000
END:STANDARD
BEGIN:DAYLIGHT
TZOFFSETFROM:-0500
TZOFFSETTO:-0400
TZNAME:EDT
DTSTART:20250309T070000
END:DAYLIGHT
BEGIN:STANDARD
TZOFFSETFROM:-0400
TZOFFSETTO:-0500
TZNAME:EST
DTSTART:20251102T060000
END:STANDARD
BEGIN:DAYLIGHT
TZOFFSETFROM:-0500
TZOFFSETTO:-0400
TZNAME:EDT
DTSTART:20260308T070000
END:DAYLIGHT
BEGIN:STANDARD
TZOFFSETFROM:-0400
TZOFFSETTO:-0500
TZNAME:EST
DTSTART:20261101T060000
END:STANDARD
END:VTIMEZONE
BEGIN:VEVENT
DTSTART;TZID=America/New_York:20250128T100000
DTEND;TZID=America/New_York:20250128T110000
DTSTAMP:20260424T075333
CREATED:20250115T202015Z
LAST-MODIFIED:20250115T202015Z
UID:22286-1738058400-1738062000@www.manhattanddcouncil.org
SUMMARY:ADAPT Community Network: Adele Friedman Housing Accessibility Fund
DESCRIPTION:Join ADAPT Community Network’s Housing Assistance Services program for an informative webinar on the Adele Friedman Housing Accessibility Fund on\, Tuesday\, January 28th at 10AM! Learn how this fund supports individuals with disabilities by providing financial assistance for housing modifications\, ensuring accessibility and independence. Discover eligibility criteria\, application processes\, and the positive impact this fund has on enhancing quality of life. Don’t miss out on this valuable opportunity to learn more about how the Adele Friedman Housing Accessibility Fund can make a difference! \nRegister now at https://bit.ly/45WGhYL. \nadele-friedman-housing-accessibility-fund-5
URL:https://www.manhattanddcouncil.org/event/adapt-community-network-adele-friedman-housing-accessibility-fund/
LOCATION:NY
END:VEVENT
END:VCALENDAR