BEGIN:VCALENDAR
VERSION:2.0
PRODID:-//Manhattan DD Council - ECPv6.15.18//NONSGML v1.0//EN
CALSCALE:GREGORIAN
METHOD:PUBLISH
X-ORIGINAL-URL:https://www.manhattanddcouncil.org
X-WR-CALDESC:Events for Manhattan DD Council
REFRESH-INTERVAL;VALUE=DURATION:PT1H
X-Robots-Tag:noindex
X-PUBLISHED-TTL:PT1H
BEGIN:VTIMEZONE
TZID:America/New_York
BEGIN:DAYLIGHT
TZOFFSETFROM:-0500
TZOFFSETTO:-0400
TZNAME:EDT
DTSTART:20240310T070000
END:DAYLIGHT
BEGIN:STANDARD
TZOFFSETFROM:-0400
TZOFFSETTO:-0500
TZNAME:EST
DTSTART:20241103T060000
END:STANDARD
BEGIN:DAYLIGHT
TZOFFSETFROM:-0500
TZOFFSETTO:-0400
TZNAME:EDT
DTSTART:20250309T070000
END:DAYLIGHT
BEGIN:STANDARD
TZOFFSETFROM:-0400
TZOFFSETTO:-0500
TZNAME:EST
DTSTART:20251102T060000
END:STANDARD
BEGIN:DAYLIGHT
TZOFFSETFROM:-0500
TZOFFSETTO:-0400
TZNAME:EDT
DTSTART:20260308T070000
END:DAYLIGHT
BEGIN:STANDARD
TZOFFSETFROM:-0400
TZOFFSETTO:-0500
TZNAME:EST
DTSTART:20261101T060000
END:STANDARD
END:VTIMEZONE
BEGIN:VEVENT
DTSTART;TZID=America/New_York:20250201T103000
DTEND;TZID=America/New_York:20250201T150000
DTSTAMP:20260424T075330
CREATED:20250105T135811Z
LAST-MODIFIED:20250105T140031Z
UID:22267-1738405800-1738422000@www.manhattanddcouncil.org
SUMMARY:INCLUDEnyc Fair 2025
DESCRIPTION:  \n \n  \nWe’re back in person! Meet face-to-face with recreational programs\, summer camps\, health and educational organizations\, and other supports and services! \nPublic Transportation: \n\n7 train to 34 St–Hudson Yards\nA\, C\, E\, 1\, 2\, and 3 trains to 34 St–Penn Station\nM11\, M12\, and M34 buses\n\nFor general questions and accommodation requests\, contact Kylie at (212) 677-4650 x21 or kbalogh@includenyc.org. For Spanish interpretation\, call (212) 677-4668. \n  \nRegister Here\n  \n\n  \n  \n  \n¡Estamos de vuelta en persona! ¡Esperamos verte en la Feria INCLUDEnyc! Conoce en persona programas recreativos\, campamentos de verano\, organizaciones de salud y educativas\, y otros apoyos y servicios. \nTransporte público: \n\nTren 7 hasta 34 St-Hudson Yards\nTrenes A\, C\, E\, 1\, 2 y 3 hasta 34 St-Penn Station\nAutobuses M11\, M12 y M34\n\nPara preguntas generales y solicitudes de adaptaciones\, comuníquese con Kylie (212) 677-4650 x21 o kbalogh@includenyc.org. Para obtener interpretación en español llame al (212) 677-4668. \n  \nRegístrese aquí\n\n\n\n 
URL:https://www.manhattanddcouncil.org/event/manhattan-dd-council-meeting-13-2-2-2-2-2-2-2-2-2-2-2/
LOCATION:The Tisch Skylights at The Shed\, 11 Hudson Yards\, NY\, NY\, 10001\, United States
ORGANIZER;CN="INCLUDEnyc":MAILTO:info@includenyc.org
END:VEVENT
END:VCALENDAR