BEGIN:VCALENDAR
VERSION:2.0
PRODID:-//Manhattan DD Council - ECPv6.15.18//NONSGML v1.0//EN
CALSCALE:GREGORIAN
METHOD:PUBLISH
X-ORIGINAL-URL:https://www.manhattanddcouncil.org
X-WR-CALDESC:Events for Manhattan DD Council
REFRESH-INTERVAL;VALUE=DURATION:PT1H
X-Robots-Tag:noindex
X-PUBLISHED-TTL:PT1H
BEGIN:VTIMEZONE
TZID:America/New_York
BEGIN:DAYLIGHT
TZOFFSETFROM:-0500
TZOFFSETTO:-0400
TZNAME:EDT
DTSTART:20240310T070000
END:DAYLIGHT
BEGIN:STANDARD
TZOFFSETFROM:-0400
TZOFFSETTO:-0500
TZNAME:EST
DTSTART:20241103T060000
END:STANDARD
BEGIN:DAYLIGHT
TZOFFSETFROM:-0500
TZOFFSETTO:-0400
TZNAME:EDT
DTSTART:20250309T070000
END:DAYLIGHT
BEGIN:STANDARD
TZOFFSETFROM:-0400
TZOFFSETTO:-0500
TZNAME:EST
DTSTART:20251102T060000
END:STANDARD
BEGIN:DAYLIGHT
TZOFFSETFROM:-0500
TZOFFSETTO:-0400
TZNAME:EDT
DTSTART:20260308T070000
END:DAYLIGHT
BEGIN:STANDARD
TZOFFSETFROM:-0400
TZOFFSETTO:-0500
TZNAME:EST
DTSTART:20261101T060000
END:STANDARD
END:VTIMEZONE
BEGIN:VEVENT
DTSTART;TZID=America/New_York:20250206T100000
DTEND;TZID=America/New_York:20250206T113000
DTSTAMP:20260424T075330
CREATED:20250114T123902Z
LAST-MODIFIED:20250115T145437Z
UID:22283-1738836000-1738841400@www.manhattanddcouncil.org
SUMMARY:Manhattan Family Support Services Advisory Council Meeting
DESCRIPTION:The New Statewide Ombudsman Program\nCommunity Service Society of New York\nPresenters: Flor Raminez & Rachel Shuman\n\nRegistration Link:\nhttps://zoom.us/meeting/register/_6aj3WI-T8KuOdoB5_OEzA\n\nNavigating OPWDD Services? We’re Here to Help \nThe Intellectual and Developmental Disabilities Ombuds program\, also known as IDDO\, provides independent guidance and advocacy. \n  \nWe are free and private\nCall our statewide helpline\, open Monday to Friday\, 9 AM to 5 PM.\nCall us at 1-800-762-9290 Email us at iddo@cssny.org \nWhat does IDDO do? \nThe IDDO can help you: \n\nGet information about services and the supports offered through OPWDD.\nConnect you to OPWDD’s Front Door.\nSupport you and advocate with you alongside your providers\, Fiscal Intermediary\, Care Manager\, Care Coordination Organization or anyone else who supports you.\nAdvise you on how to file a complaint.\nWe are free and private Call us at 1-800-762-9290 or Email us at iddo@cssny.org\n\nLearn more about the new Statewide Ombudsman program: \nThe Ombudsman program will provide an independent advocate for individuals who are not able to speak for themselves and provide training and support to those who can make their own decisions to help them achieve greater independence. This program will be available across the entire OPWDD service system \nThe IDDO is funded by the New York State Office for People with Developmental Disabilities (OPWDD) to educate and assist individuals with intellectual and developmental disabilities\, their families\, caregivers\, and representatives successfully access OPWDD-funded services and supports.
URL:https://www.manhattanddcouncil.org/event/manhattan-family-support-services-advisory-council-meeting-5-2/
LOCATION:NY
END:VEVENT
END:VCALENDAR