BEGIN:VCALENDAR
VERSION:2.0
PRODID:-//Manhattan DD Council - ECPv6.15.18//NONSGML v1.0//EN
CALSCALE:GREGORIAN
METHOD:PUBLISH
X-WR-CALNAME:Manhattan DD Council
X-ORIGINAL-URL:https://www.manhattanddcouncil.org
X-WR-CALDESC:Events for Manhattan DD Council
REFRESH-INTERVAL;VALUE=DURATION:PT1H
X-Robots-Tag:noindex
X-PUBLISHED-TTL:PT1H
BEGIN:VTIMEZONE
TZID:America/New_York
BEGIN:DAYLIGHT
TZOFFSETFROM:-0500
TZOFFSETTO:-0400
TZNAME:EDT
DTSTART:20240310T070000
END:DAYLIGHT
BEGIN:STANDARD
TZOFFSETFROM:-0400
TZOFFSETTO:-0500
TZNAME:EST
DTSTART:20241103T060000
END:STANDARD
BEGIN:DAYLIGHT
TZOFFSETFROM:-0500
TZOFFSETTO:-0400
TZNAME:EDT
DTSTART:20250309T070000
END:DAYLIGHT
BEGIN:STANDARD
TZOFFSETFROM:-0400
TZOFFSETTO:-0500
TZNAME:EST
DTSTART:20251102T060000
END:STANDARD
BEGIN:DAYLIGHT
TZOFFSETFROM:-0500
TZOFFSETTO:-0400
TZNAME:EDT
DTSTART:20260308T070000
END:DAYLIGHT
BEGIN:STANDARD
TZOFFSETFROM:-0400
TZOFFSETTO:-0500
TZNAME:EST
DTSTART:20261101T060000
END:STANDARD
END:VTIMEZONE
BEGIN:VEVENT
DTSTART;TZID=America/New_York:20250212T100000
DTEND;TZID=America/New_York:20250212T120000
DTSTAMP:20260424T075332
CREATED:20240917T120247Z
LAST-MODIFIED:20250105T133657Z
UID:22156-1739354400-1739361600@www.manhattanddcouncil.org
SUMMARY:Manhattan Adult Services Meet & Greet 2025
DESCRIPTION: \n \nDownload Printable Flyer\n  \nWhat’s Next After High School? \nLearn about programs & services for adults with intellectual & developmental disabilities living in Manhattan! \n  \nLearn About: \n\nDay Hab Programs\nEmployment Services\nOPWDD\n\nYou Can: \n\nLearn about programs & services\nConnect with people who can help\n\nZoom Info: \nhttps://zoom.us/j/94544350248?pwd=jgJk3fgzaHVIUwXbtbyvT1vXWkF2kf.1Meeting ID: 945 4435 0248 / Passcode: 255439 \nParticipating Organizations: \nACANY • ADAPT Community Network • AHRC NYC • Braverhood • Care Design NY • Center for Family Support • Esperanza Center • Gateway Counseling Center • General Human Outreach • Goodwill NYNJ • Lifespire • The NY Foundling • Open the Lid • Partners Health Plan • QSAC • Services for the UnderServed • Sinergia • The Shield • Unique Care • YAI Network \nSponsored By:Manhattan DD Council Transition Committee \nQuestions? aharris27@schools.nyc.gov
URL:https://www.manhattanddcouncil.org/event/manhattan-transition-committee-meeting-4-2-2/
LOCATION:NY
END:VEVENT
END:VCALENDAR