BEGIN:VCALENDAR
VERSION:2.0
PRODID:-//Manhattan DD Council - ECPv6.15.18//NONSGML v1.0//EN
CALSCALE:GREGORIAN
METHOD:PUBLISH
X-ORIGINAL-URL:https://www.manhattanddcouncil.org
X-WR-CALDESC:Events for Manhattan DD Council
REFRESH-INTERVAL;VALUE=DURATION:PT1H
X-Robots-Tag:noindex
X-PUBLISHED-TTL:PT1H
BEGIN:VTIMEZONE
TZID:America/New_York
BEGIN:DAYLIGHT
TZOFFSETFROM:-0500
TZOFFSETTO:-0400
TZNAME:EDT
DTSTART:20240310T070000
END:DAYLIGHT
BEGIN:STANDARD
TZOFFSETFROM:-0400
TZOFFSETTO:-0500
TZNAME:EST
DTSTART:20241103T060000
END:STANDARD
BEGIN:DAYLIGHT
TZOFFSETFROM:-0500
TZOFFSETTO:-0400
TZNAME:EDT
DTSTART:20250309T070000
END:DAYLIGHT
BEGIN:STANDARD
TZOFFSETFROM:-0400
TZOFFSETTO:-0500
TZNAME:EST
DTSTART:20251102T060000
END:STANDARD
BEGIN:DAYLIGHT
TZOFFSETFROM:-0500
TZOFFSETTO:-0400
TZNAME:EDT
DTSTART:20260308T070000
END:DAYLIGHT
BEGIN:STANDARD
TZOFFSETFROM:-0400
TZOFFSETTO:-0500
TZNAME:EST
DTSTART:20261101T060000
END:STANDARD
END:VTIMEZONE
BEGIN:VEVENT
DTSTART;TZID=America/New_York:20250214T120000
DTEND;TZID=America/New_York:20250214T120000
DTSTAMP:20260424T075347
CREATED:20250130T002434Z
LAST-MODIFIED:20250130T002434Z
UID:22303-1739534400-1739534400@www.manhattanddcouncil.org
SUMMARY:IAC Budget Briefing
DESCRIPTION:Please join IAC via Zoom for the Governor’s budget briefing. See what the impact will be for OPWDD. \n  \nTwo Sessions Available: \nFriday\, February 7th\, at 10am \nor \nFriday\, February 14th\, at 12pm \n\n\n\n  \nZoom Info: \nhttps://iacny-org.zoom.us/j/6599597245?pwd=N2czTDMzNWdqU3dTY2VnQnBDMHp0dz09&omn=81162729791&from=addon \nMeeting ID: 659 959 7245 / Passcode: 163879 \nJoin by Telephone: 646-931-3860
URL:https://www.manhattanddcouncil.org/event/manhattan-dd-council-meeting-13-2-2-2-2-2-2-2-2-2-3-2/
LOCATION:NY
END:VEVENT
END:VCALENDAR