BEGIN:VCALENDAR
VERSION:2.0
PRODID:-//Manhattan DD Council - ECPv6.15.18//NONSGML v1.0//EN
CALSCALE:GREGORIAN
METHOD:PUBLISH
X-WR-CALNAME:Manhattan DD Council
X-ORIGINAL-URL:https://www.manhattanddcouncil.org
X-WR-CALDESC:Events for Manhattan DD Council
REFRESH-INTERVAL;VALUE=DURATION:PT1H
X-Robots-Tag:noindex
X-PUBLISHED-TTL:PT1H
BEGIN:VTIMEZONE
TZID:America/New_York
BEGIN:DAYLIGHT
TZOFFSETFROM:-0500
TZOFFSETTO:-0400
TZNAME:EDT
DTSTART:20240310T070000
END:DAYLIGHT
BEGIN:STANDARD
TZOFFSETFROM:-0400
TZOFFSETTO:-0500
TZNAME:EST
DTSTART:20241103T060000
END:STANDARD
BEGIN:DAYLIGHT
TZOFFSETFROM:-0500
TZOFFSETTO:-0400
TZNAME:EDT
DTSTART:20250309T070000
END:DAYLIGHT
BEGIN:STANDARD
TZOFFSETFROM:-0400
TZOFFSETTO:-0500
TZNAME:EST
DTSTART:20251102T060000
END:STANDARD
BEGIN:DAYLIGHT
TZOFFSETFROM:-0500
TZOFFSETTO:-0400
TZNAME:EDT
DTSTART:20260308T070000
END:DAYLIGHT
BEGIN:STANDARD
TZOFFSETFROM:-0400
TZOFFSETTO:-0500
TZNAME:EST
DTSTART:20261101T060000
END:STANDARD
END:VTIMEZONE
BEGIN:VEVENT
DTSTART;TZID=America/New_York:20250312T100000
DTEND;TZID=America/New_York:20250312T120000
DTSTAMP:20260424T061737
CREATED:20250227T160429Z
LAST-MODIFIED:20250227T160554Z
UID:22343-1741773600-1741780800@www.manhattanddcouncil.org
SUMMARY:Manhattan Family & Provider Information Committee Meeting
DESCRIPTION:Recent changes to the Consumer Directed Personal Assistance Program (CDPAP) in New York State\nWednesday\, March 12th @ 10:00 am\n\nPresented by Co-Chairs\, Luisa Eusse-Roche & Wendy De Leon\nThe Manhattan Family & Provider Information Committee would like to invite you to an insightful presentation on the recent changes to the Consumer Directed Personal Assistance Program (CDPAP) in New York State and how they impact caregivers and home care services. We’ll cover key updates\, including the transition to a single Fiscal Intermediary\, and the roles of CDPAP caregivers\, HHAs\, and PCAs. Don’t miss this opportunity to stay informed! \nJoin Zoom Meeting: https://us06web.zoom.us/j/89138994385?pwd=kn3anU8OqcMyrGGY0XJnM5aDe4i4jk.1
URL:https://www.manhattanddcouncil.org/event/fpic_3_12_25/
LOCATION:NY
END:VEVENT
END:VCALENDAR