BEGIN:VCALENDAR
VERSION:2.0
PRODID:-//Manhattan DD Council - ECPv6.15.18//NONSGML v1.0//EN
CALSCALE:GREGORIAN
METHOD:PUBLISH
X-WR-CALNAME:Manhattan DD Council
X-ORIGINAL-URL:https://www.manhattanddcouncil.org
X-WR-CALDESC:Events for Manhattan DD Council
REFRESH-INTERVAL;VALUE=DURATION:PT1H
X-Robots-Tag:noindex
X-PUBLISHED-TTL:PT1H
BEGIN:VTIMEZONE
TZID:America/New_York
BEGIN:DAYLIGHT
TZOFFSETFROM:-0500
TZOFFSETTO:-0400
TZNAME:EDT
DTSTART:20240310T070000
END:DAYLIGHT
BEGIN:STANDARD
TZOFFSETFROM:-0400
TZOFFSETTO:-0500
TZNAME:EST
DTSTART:20241103T060000
END:STANDARD
BEGIN:DAYLIGHT
TZOFFSETFROM:-0500
TZOFFSETTO:-0400
TZNAME:EDT
DTSTART:20250309T070000
END:DAYLIGHT
BEGIN:STANDARD
TZOFFSETFROM:-0400
TZOFFSETTO:-0500
TZNAME:EST
DTSTART:20251102T060000
END:STANDARD
BEGIN:DAYLIGHT
TZOFFSETFROM:-0500
TZOFFSETTO:-0400
TZNAME:EDT
DTSTART:20260308T070000
END:DAYLIGHT
BEGIN:STANDARD
TZOFFSETFROM:-0400
TZOFFSETTO:-0500
TZNAME:EST
DTSTART:20261101T060000
END:STANDARD
END:VTIMEZONE
BEGIN:VEVENT
DTSTART;TZID=America/New_York:20250623T100000
DTEND;TZID=America/New_York:20250623T110000
DTSTAMP:20260424T011035
CREATED:20250610T165032Z
LAST-MODIFIED:20250610T165116Z
UID:22427-1750672800-1750676400@www.manhattanddcouncil.org
SUMMARY:Save Our Services (SOS) Zoom Rally
DESCRIPTION:Why Worry About Cuts to Medicaid?\nAttend the\nSOS* Zoom Rally\n  \nMEDICAID Pays for Comm Hab\nMEDICAID Pays for Day & Employment Programs\nMEDICAID Pays for Residential Care\nMEDICAID Pays for OT\, PT\, Speech & Other Therapies in Schools\nMEDICAID Pays for Self-Direction \nAnd that’s Not All \nJoin us for a Virtual Rally to: \n🔍 Learn how these cuts will affect YOU and your loved ones\n💬 Hear directly from people supported\, families\, and frontline staff\n📢 Find out how YOU can take action to stop these devastating changes \nREGISTER NOW\nOrganized by: \n*Save Our Services IDD is the collaboration of Family Groups \nENYDDA\, Family Committee of DDAWNY\, L.I.A.N.D.D.\, NYC FAIR & NYC DEVELOPMENTAL DISABILITIES (DD) Councils:\nBrooklyn\, Bronx\, Manhattan\, Queens\, Staten Island
URL:https://www.manhattanddcouncil.org/event/save-our-services-sos-zoom-rally/
LOCATION:NY
END:VEVENT
END:VCALENDAR