BEGIN:VCALENDAR
VERSION:2.0
PRODID:-//Manhattan DD Council - ECPv6.15.18//NONSGML v1.0//EN
CALSCALE:GREGORIAN
METHOD:PUBLISH
X-ORIGINAL-URL:https://www.manhattanddcouncil.org
X-WR-CALDESC:Events for Manhattan DD Council
REFRESH-INTERVAL;VALUE=DURATION:PT1H
X-Robots-Tag:noindex
X-PUBLISHED-TTL:PT1H
BEGIN:VTIMEZONE
TZID:America/New_York
BEGIN:DAYLIGHT
TZOFFSETFROM:-0500
TZOFFSETTO:-0400
TZNAME:EDT
DTSTART:20240310T070000
END:DAYLIGHT
BEGIN:STANDARD
TZOFFSETFROM:-0400
TZOFFSETTO:-0500
TZNAME:EST
DTSTART:20241103T060000
END:STANDARD
BEGIN:DAYLIGHT
TZOFFSETFROM:-0500
TZOFFSETTO:-0400
TZNAME:EDT
DTSTART:20250309T070000
END:DAYLIGHT
BEGIN:STANDARD
TZOFFSETFROM:-0400
TZOFFSETTO:-0500
TZNAME:EST
DTSTART:20251102T060000
END:STANDARD
BEGIN:DAYLIGHT
TZOFFSETFROM:-0500
TZOFFSETTO:-0400
TZNAME:EDT
DTSTART:20260308T070000
END:DAYLIGHT
BEGIN:STANDARD
TZOFFSETFROM:-0400
TZOFFSETTO:-0500
TZNAME:EST
DTSTART:20261101T060000
END:STANDARD
END:VTIMEZONE
BEGIN:VEVENT
DTSTART;TZID=America/New_York:20251105T100000
DTEND;TZID=America/New_York:20251105T150000
DTSTAMP:20260423T174519
CREATED:20251103T214338Z
LAST-MODIFIED:20251103T223312Z
UID:22555-1762336800-1762354800@www.manhattanddcouncil.org
SUMMARY:ADAPT Family Connect Summit
DESCRIPTION:ADAPT Community Network is having their free virtual Family Connect Summit 2025 on Wednesday\, November 5th from 10 am – 3 pm. \nTopics include: \n\nStarting Early: Empowering Your Child Through Self-Advocacy\nTransitions in Life\nPath to Independence: Making Informative Choices\n\nEnter to win a free Chromebook! \nSpanish\, Mandarin and ASL interpretation will be provided. \n  \nRegister Here \n  \n\n\n\n    Download    PDF Loading...
URL:https://www.manhattanddcouncil.org/event/adapt-family-connect-summit-2/
LOCATION:NY
END:VEVENT
END:VCALENDAR