BEGIN:VCALENDAR
VERSION:2.0
PRODID:-//Manhattan DD Council - ECPv6.15.18//NONSGML v1.0//EN
CALSCALE:GREGORIAN
METHOD:PUBLISH
X-ORIGINAL-URL:https://www.manhattanddcouncil.org
X-WR-CALDESC:Events for Manhattan DD Council
REFRESH-INTERVAL;VALUE=DURATION:PT1H
X-Robots-Tag:noindex
X-PUBLISHED-TTL:PT1H
BEGIN:VTIMEZONE
TZID:America/New_York
BEGIN:DAYLIGHT
TZOFFSETFROM:-0500
TZOFFSETTO:-0400
TZNAME:EDT
DTSTART:20240310T070000
END:DAYLIGHT
BEGIN:STANDARD
TZOFFSETFROM:-0400
TZOFFSETTO:-0500
TZNAME:EST
DTSTART:20241103T060000
END:STANDARD
BEGIN:DAYLIGHT
TZOFFSETFROM:-0500
TZOFFSETTO:-0400
TZNAME:EDT
DTSTART:20250309T070000
END:DAYLIGHT
BEGIN:STANDARD
TZOFFSETFROM:-0400
TZOFFSETTO:-0500
TZNAME:EST
DTSTART:20251102T060000
END:STANDARD
BEGIN:DAYLIGHT
TZOFFSETFROM:-0500
TZOFFSETTO:-0400
TZNAME:EDT
DTSTART:20260308T070000
END:DAYLIGHT
BEGIN:STANDARD
TZOFFSETFROM:-0400
TZOFFSETTO:-0500
TZNAME:EST
DTSTART:20261101T060000
END:STANDARD
END:VTIMEZONE
BEGIN:VEVENT
DTSTART;TZID=America/New_York:20251106T180000
DTEND;TZID=America/New_York:20251106T193000
DTSTAMP:20260423T174519
CREATED:20251010T113046Z
LAST-MODIFIED:20251010T113046Z
UID:22516-1762452000-1762457400@www.manhattanddcouncil.org
SUMMARY:College Is Possible: Non-Diploma Programs
DESCRIPTION:Educational programs on college campuses for students with developmental and/or intellectual disabilities who use Alternate Assessment and will leave high school with a non-diploma credential. Families are welcome. \nSCHEDULE \n\n5:45 PM: Webinar opens and accommodations set up\n6:00 PM: Listen to a PANEL OF EXPERTS talk about unique programs on college campuses for students with developmental and/or intellectual disabilities.\n7:00 PM: Get your questions answered by representatives from CUNY Unlimited\, Melissa Riggio Higher Education Program\, THINK College\, ACCES-VR\, student self-advocates\, and more!\n\nThis is an online event. \n\nRegister here
URL:https://www.manhattanddcouncil.org/event/college-is-possible-non-diploma-programs/
LOCATION:NY
ORGANIZER;CN="INCLUDEnyc":MAILTO:info@includenyc.org
END:VEVENT
END:VCALENDAR