BEGIN:VCALENDAR
VERSION:2.0
PRODID:-//Manhattan DD Council - ECPv6.15.18//NONSGML v1.0//EN
CALSCALE:GREGORIAN
METHOD:PUBLISH
X-WR-CALNAME:Manhattan DD Council
X-ORIGINAL-URL:https://www.manhattanddcouncil.org
X-WR-CALDESC:Events for Manhattan DD Council
REFRESH-INTERVAL;VALUE=DURATION:PT1H
X-Robots-Tag:noindex
X-PUBLISHED-TTL:PT1H
BEGIN:VTIMEZONE
TZID:America/New_York
BEGIN:DAYLIGHT
TZOFFSETFROM:-0500
TZOFFSETTO:-0400
TZNAME:EDT
DTSTART:20240310T070000
END:DAYLIGHT
BEGIN:STANDARD
TZOFFSETFROM:-0400
TZOFFSETTO:-0500
TZNAME:EST
DTSTART:20241103T060000
END:STANDARD
BEGIN:DAYLIGHT
TZOFFSETFROM:-0500
TZOFFSETTO:-0400
TZNAME:EDT
DTSTART:20250309T070000
END:DAYLIGHT
BEGIN:STANDARD
TZOFFSETFROM:-0400
TZOFFSETTO:-0500
TZNAME:EST
DTSTART:20251102T060000
END:STANDARD
BEGIN:DAYLIGHT
TZOFFSETFROM:-0500
TZOFFSETTO:-0400
TZNAME:EDT
DTSTART:20260308T070000
END:DAYLIGHT
BEGIN:STANDARD
TZOFFSETFROM:-0400
TZOFFSETTO:-0500
TZNAME:EST
DTSTART:20261101T060000
END:STANDARD
END:VTIMEZONE
BEGIN:VEVENT
DTSTART;TZID=America/New_York:20251210T100000
DTEND;TZID=America/New_York:20251210T110000
DTSTAMP:20260423T161520
CREATED:20251021T141257Z
LAST-MODIFIED:20251021T151031Z
UID:22540-1765360800-1765364400@www.manhattanddcouncil.org
SUMMARY:Manhattan Transition Committee Meeting
DESCRIPTION: \nIn Person: \n\nChinese-American Planning Council \n45 Suffolk Street\, 2nd Floor\, NY\, NY 10002 \n  \nVirtual: \nhttps://zoom.us/j/96976866485?pwd=lz1jqB9LFhaHZnE62T9VxJmeBHXbA4.1 \nMeeting ID: 969 7686 6485 / Passcode: 927582 \n\n \nFeatured Presentation:\n\n\nNY Connects / CIDNY\nAssistance with Services\, Resources & Supports\n\n  \nNY Connects at CIDNY is the trusted place to go for free\, unbiased information about services\, resources\, and supports for New Yorkers of all ages and with any type of disability. \nCounselors at NY Connects provide guidance and coordination for participants with disabilities as they go through eligibility and assessment processes for benefits and services. They can also help when you are completing applications and enrolling in public assistance benefits\, like Medicaid\, Medicare\, housing applications\, SNAP applications\, Social Security benefits\, and more. \n  \nLearn More \n\n \nWe will have space for open discussion and networking for families\, school staff\, service provider agency representatives and others supporting youth in transition. All are welcome to join! \n\n\n\n  \nIf you have any questions please feel free to contact us: \nAndrew Harris\, P138M\, aharris27@schools.nyc.gov \n\n\n \nPat Liu Chang\, GHO\, pat@ghoinc.org
URL:https://www.manhattanddcouncil.org/event/manhattan-transition-committee-meeting-4-2-3-2-2-2-2/
LOCATION:NY
END:VEVENT
END:VCALENDAR