BEGIN:VCALENDAR
VERSION:2.0
PRODID:-//Manhattan DD Council - ECPv6.15.18//NONSGML v1.0//EN
CALSCALE:GREGORIAN
METHOD:PUBLISH
X-ORIGINAL-URL:https://www.manhattanddcouncil.org
X-WR-CALDESC:Events for Manhattan DD Council
REFRESH-INTERVAL;VALUE=DURATION:PT1H
X-Robots-Tag:noindex
X-PUBLISHED-TTL:PT1H
BEGIN:VTIMEZONE
TZID:America/New_York
BEGIN:DAYLIGHT
TZOFFSETFROM:-0500
TZOFFSETTO:-0400
TZNAME:EDT
DTSTART:20240310T070000
END:DAYLIGHT
BEGIN:STANDARD
TZOFFSETFROM:-0400
TZOFFSETTO:-0500
TZNAME:EST
DTSTART:20241103T060000
END:STANDARD
BEGIN:DAYLIGHT
TZOFFSETFROM:-0500
TZOFFSETTO:-0400
TZNAME:EDT
DTSTART:20250309T070000
END:DAYLIGHT
BEGIN:STANDARD
TZOFFSETFROM:-0400
TZOFFSETTO:-0500
TZNAME:EST
DTSTART:20251102T060000
END:STANDARD
BEGIN:DAYLIGHT
TZOFFSETFROM:-0500
TZOFFSETTO:-0400
TZNAME:EDT
DTSTART:20260308T070000
END:DAYLIGHT
BEGIN:STANDARD
TZOFFSETFROM:-0400
TZOFFSETTO:-0500
TZNAME:EST
DTSTART:20261101T060000
END:STANDARD
END:VTIMEZONE
BEGIN:VEVENT
DTSTART;TZID=America/New_York:20251217T100000
DTEND;TZID=America/New_York:20251217T110000
DTSTAMP:20260423T161608
CREATED:20251210T170121Z
LAST-MODIFIED:20251210T172954Z
UID:22573-1765965600-1765969200@www.manhattanddcouncil.org
SUMMARY:Manhattan Family & Provider Information Committee Meeting
DESCRIPTION:Join the Manhattan Family & Provider Information Committee for an open conversation and resource sharing! We connect families\, caregivers\, and providers to keep everyone informed about services\, supports\, and advocacy for people with developmental disabilities. Come learn\, ask questions\, and stay connected with your community. \nUnlock resources that can make a real difference! This meeting will spotlight underused services in Manhattan—like Family Reimbursement\, guardianship\, clinical evaluations\, advocacy\, and more—from agencies including AHRC\, Sinergia\, QSAC\, and others. Don’t miss this chance to learn how to access these supports and help families and professionals get the tools they need. Register today! \nMeeting Link: \nhttps://us06web.zoom.us/meeting/register/V6tMopOpQe-RAY4rhwjG-g
URL:https://www.manhattanddcouncil.org/event/manhattan-family-provider-information-committee-meeting-6/
LOCATION:NY
END:VEVENT
END:VCALENDAR