BEGIN:VCALENDAR
VERSION:2.0
PRODID:-//Manhattan DD Council - ECPv6.15.18//NONSGML v1.0//EN
CALSCALE:GREGORIAN
METHOD:PUBLISH
X-WR-CALNAME:Manhattan DD Council
X-ORIGINAL-URL:https://www.manhattanddcouncil.org
X-WR-CALDESC:Events for Manhattan DD Council
REFRESH-INTERVAL;VALUE=DURATION:PT1H
X-Robots-Tag:noindex
X-PUBLISHED-TTL:PT1H
BEGIN:VTIMEZONE
TZID:America/New_York
BEGIN:DAYLIGHT
TZOFFSETFROM:-0500
TZOFFSETTO:-0400
TZNAME:EDT
DTSTART:20250309T070000
END:DAYLIGHT
BEGIN:STANDARD
TZOFFSETFROM:-0400
TZOFFSETTO:-0500
TZNAME:EST
DTSTART:20251102T060000
END:STANDARD
BEGIN:DAYLIGHT
TZOFFSETFROM:-0500
TZOFFSETTO:-0400
TZNAME:EDT
DTSTART:20260308T070000
END:DAYLIGHT
BEGIN:STANDARD
TZOFFSETFROM:-0400
TZOFFSETTO:-0500
TZNAME:EST
DTSTART:20261101T060000
END:STANDARD
BEGIN:DAYLIGHT
TZOFFSETFROM:-0500
TZOFFSETTO:-0400
TZNAME:EDT
DTSTART:20270314T070000
END:DAYLIGHT
BEGIN:STANDARD
TZOFFSETFROM:-0400
TZOFFSETTO:-0500
TZNAME:EST
DTSTART:20271107T060000
END:STANDARD
END:VTIMEZONE
BEGIN:VEVENT
DTSTART;TZID=America/New_York:20260211T100000
DTEND;TZID=America/New_York:20260211T120000
DTSTAMP:20260423T133141
CREATED:20260108T163939Z
LAST-MODIFIED:20260108T165951Z
UID:22580-1770804000-1770811200@www.manhattanddcouncil.org
SUMMARY:Manhattan Adult Services Showcase
DESCRIPTION:Manhattan Transition Committee Presents: \nManhattan Adult Services Showcase 2026\nWednesday\, February 11\n10:00 am – 12:00 pm\n \n  \nWhat’s Next After High School? \nLearn About: \nDay Habilitation Programs\nEmployment Services\nOPWDD Services\nSupport for the Future \nZoom Info: \nhttps://zoom.us/j/96976866485?pwd=lz1jqB9LFhaHZnE62T9VxJmeBHXbA4.1 \nMeeting ID: 969 7686 6485 / Passcode: 927582 \n  \nFeatured Organizations: \nACANY • ADAPT Community Network • AHRC NYC • Braverhood • Care Design NY • Center for Family Support • Esperanza Center • Gateway Counseling Center • GHO • Goodwill NYNJ • Job Path • Lifespire • Open the Lid • Pure Vision Arts • Sinergia • Unique Care Community Services • YAI \n  \nSponsored By: \nManhattan DD Council Transition Committee \n  \nQuestions? \naharris27@schools.nyc.gov
URL:https://www.manhattanddcouncil.org/event/manhattan-adult-services-showcase/
LOCATION:Zoom
END:VEVENT
END:VCALENDAR