BEGIN:VCALENDAR
VERSION:2.0
PRODID:-//Manhattan DD Council - ECPv6.15.18//NONSGML v1.0//EN
CALSCALE:GREGORIAN
METHOD:PUBLISH
X-ORIGINAL-URL:https://www.manhattanddcouncil.org
X-WR-CALDESC:Events for Manhattan DD Council
REFRESH-INTERVAL;VALUE=DURATION:PT1H
X-Robots-Tag:noindex
X-PUBLISHED-TTL:PT1H
BEGIN:VTIMEZONE
TZID:America/New_York
BEGIN:DAYLIGHT
TZOFFSETFROM:-0500
TZOFFSETTO:-0400
TZNAME:EDT
DTSTART:20250309T070000
END:DAYLIGHT
BEGIN:STANDARD
TZOFFSETFROM:-0400
TZOFFSETTO:-0500
TZNAME:EST
DTSTART:20251102T060000
END:STANDARD
BEGIN:DAYLIGHT
TZOFFSETFROM:-0500
TZOFFSETTO:-0400
TZNAME:EDT
DTSTART:20260308T070000
END:DAYLIGHT
BEGIN:STANDARD
TZOFFSETFROM:-0400
TZOFFSETTO:-0500
TZNAME:EST
DTSTART:20261101T060000
END:STANDARD
BEGIN:DAYLIGHT
TZOFFSETFROM:-0500
TZOFFSETTO:-0400
TZNAME:EDT
DTSTART:20270314T070000
END:DAYLIGHT
BEGIN:STANDARD
TZOFFSETFROM:-0400
TZOFFSETTO:-0500
TZNAME:EST
DTSTART:20271107T060000
END:STANDARD
END:VTIMEZONE
BEGIN:VEVENT
DTSTART;TZID=America/New_York:20260217T100000
DTEND;TZID=America/New_York:20260217T120000
DTSTAMP:20260423T145138
CREATED:20250903T212550Z
LAST-MODIFIED:20260206T144115Z
UID:22471-1771322400-1771329600@www.manhattanddcouncil.org
SUMMARY:Manhattan DD Council Meeting
DESCRIPTION:Come and hear updates from providers\, OPWDD\, and New York City DOHMH \n\n\n\nLearn what’s happening as we continue to work to ensure services and supports for people with I/DD! \n\n\n\nHybrid Meeting – Join In Person OR Virtual \n  \nIn Person:  \nBirch Family Services \n104 West 29th Street\, 3rd Floor\, NY\, NY 10001 \n  \nVirtual: \nJoin Zoom Meeting: \nhttps://zoom.us/j/97723827673?pwd=CDw2MFQvdvNvaIMgxOWiumRPmPiCBV.1 \nMeeting ID: 977 2382 7673 / Passcode: 983899 \nOne tap mobile: +19292056099\,\,97723827673#\,\,\,\,*983899#
URL:https://www.manhattanddcouncil.org/event/manhattan-dd-council-meeting-13-2-2-2-2-2-2-2-2-2-4-2-2-2-2/
LOCATION:NY
END:VEVENT
END:VCALENDAR