BEGIN:VCALENDAR
VERSION:2.0
PRODID:-//Manhattan DD Council - ECPv6.15.18//NONSGML v1.0//EN
CALSCALE:GREGORIAN
METHOD:PUBLISH
X-WR-CALNAME:Manhattan DD Council
X-ORIGINAL-URL:https://www.manhattanddcouncil.org
X-WR-CALDESC:Events for Manhattan DD Council
REFRESH-INTERVAL;VALUE=DURATION:PT1H
X-Robots-Tag:noindex
X-PUBLISHED-TTL:PT1H
BEGIN:VTIMEZONE
TZID:America/New_York
BEGIN:DAYLIGHT
TZOFFSETFROM:-0500
TZOFFSETTO:-0400
TZNAME:EDT
DTSTART:20180311T070000
END:DAYLIGHT
BEGIN:STANDARD
TZOFFSETFROM:-0400
TZOFFSETTO:-0500
TZNAME:EST
DTSTART:20181104T060000
END:STANDARD
BEGIN:DAYLIGHT
TZOFFSETFROM:-0500
TZOFFSETTO:-0400
TZNAME:EDT
DTSTART:20190310T070000
END:DAYLIGHT
BEGIN:STANDARD
TZOFFSETFROM:-0400
TZOFFSETTO:-0500
TZNAME:EST
DTSTART:20191103T060000
END:STANDARD
BEGIN:DAYLIGHT
TZOFFSETFROM:-0500
TZOFFSETTO:-0400
TZNAME:EDT
DTSTART:20200308T070000
END:DAYLIGHT
BEGIN:STANDARD
TZOFFSETFROM:-0400
TZOFFSETTO:-0500
TZNAME:EST
DTSTART:20201101T060000
END:STANDARD
BEGIN:DAYLIGHT
TZOFFSETFROM:-0500
TZOFFSETTO:-0400
TZNAME:EDT
DTSTART:20210314T070000
END:DAYLIGHT
BEGIN:STANDARD
TZOFFSETFROM:-0400
TZOFFSETTO:-0500
TZNAME:EST
DTSTART:20211107T060000
END:STANDARD
END:VTIMEZONE
BEGIN:VEVENT
DTSTART;TZID=America/New_York:20200212T100000
DTEND;TZID=America/New_York:20200212T120000
DTSTAMP:20260423T155602
CREATED:20191209T223040Z
LAST-MODIFIED:20191209T223049Z
UID:20242-1581501600-1581508800@www.manhattanddcouncil.org
SUMMARY:Navigating The System for People With Developmental Disabilites
DESCRIPTION:
URL:https://www.manhattanddcouncil.org/event/training-for-caregivers-of-people-with-intellectual-and-developmental-disabilities-toilet-training-for-people-of-all-ages-2-3-2019-06-12-2-2019-06-12-2/
LOCATION:YAI (7th Floor)\, 220 E 42nd St. 7th Floor\, New York\, New York\, 10017\, United States
CATEGORIES:Provider Events
END:VEVENT
BEGIN:VEVENT
DTSTART;TZID=America/New_York:20191211T100000
DTEND;TZID=America/New_York:20191211T120000
DTSTAMP:20260423T155602
CREATED:20191209T223132Z
LAST-MODIFIED:20191209T223137Z
UID:20248-1576058400-1576065600@www.manhattanddcouncil.org
SUMMARY:Navigating The System for People With Developmental Disabilites
DESCRIPTION:
URL:https://www.manhattanddcouncil.org/event/training-for-caregivers-of-people-with-intellectual-and-developmental-disabilities-toilet-training-for-people-of-all-ages-2-3-2019-06-12-2-2019-06-12-2-2/
LOCATION:YAI (7th Floor)\, 220 E 42nd St. 7th Floor\, New York\, New York\, 10017\, United States
CATEGORIES:Provider Events
END:VEVENT
END:VCALENDAR