BEGIN:VCALENDAR
VERSION:2.0
PRODID:-//Manhattan DD Council - ECPv6.15.18//NONSGML v1.0//EN
CALSCALE:GREGORIAN
METHOD:PUBLISH
X-WR-CALNAME:Manhattan DD Council
X-ORIGINAL-URL:https://www.manhattanddcouncil.org
X-WR-CALDESC:Events for Manhattan DD Council
REFRESH-INTERVAL;VALUE=DURATION:PT1H
X-Robots-Tag:noindex
X-PUBLISHED-TTL:PT1H
BEGIN:VTIMEZONE
TZID:America/New_York
BEGIN:DAYLIGHT
TZOFFSETFROM:-0500
TZOFFSETTO:-0400
TZNAME:EDT
DTSTART:20250309T070000
END:DAYLIGHT
BEGIN:STANDARD
TZOFFSETFROM:-0400
TZOFFSETTO:-0500
TZNAME:EST
DTSTART:20251102T060000
END:STANDARD
BEGIN:DAYLIGHT
TZOFFSETFROM:-0500
TZOFFSETTO:-0400
TZNAME:EDT
DTSTART:20260308T070000
END:DAYLIGHT
BEGIN:STANDARD
TZOFFSETFROM:-0400
TZOFFSETTO:-0500
TZNAME:EST
DTSTART:20261101T060000
END:STANDARD
BEGIN:DAYLIGHT
TZOFFSETFROM:-0500
TZOFFSETTO:-0400
TZNAME:EDT
DTSTART:20270314T070000
END:DAYLIGHT
BEGIN:STANDARD
TZOFFSETFROM:-0400
TZOFFSETTO:-0500
TZNAME:EST
DTSTART:20271107T060000
END:STANDARD
END:VTIMEZONE
BEGIN:VEVENT
DTSTART;TZID=America/New_York:20260429T100000
DTEND;TZID=America/New_York:20260429T113000
DTSTAMP:20260423T075151
CREATED:20260127T013328Z
LAST-MODIFIED:20260127T013328Z
UID:22599-1777456800-1777462200@www.manhattanddcouncil.org
SUMMARY:Guardianship & Future Care Planning: Part 2
DESCRIPTION:  \n \n\nManhattan Family Support Services Advisory Council & Manhattan Transition Committee \nPresent: \nGuardianship & Future Care Planning\nPresented by Stephanie Baran\nAHRC New York City Guardianship Coordinator\, Staff Attorney\n  \nPart 2: Assistance with the Application\nWednesday\, April 29\n10:00am \nIn Person: AHRC\, 83 Maiden Lane\, 11th Floor\, NY\, NY 10038 \nLine-by-line help with 17-A guardianship forms \n  \nRegister Here
URL:https://www.manhattanddcouncil.org/event/guardianship-future-care-planning-2/
LOCATION:AHRC Maiden Lane\, 83 Maiden Lane\, 11th Floor\, NY\, NY\, 10038\, United States
END:VEVENT
BEGIN:VEVENT
DTSTART;TZID=America/New_York:20260512T090000
DTEND;TZID=America/New_York:20260512T140000
DTSTAMP:20260423T075151
CREATED:20260406T133657Z
LAST-MODIFIED:20260413T004049Z
UID:22697-1778576400-1778594400@www.manhattanddcouncil.org
SUMMARY:Manhattan Family & Professional Resource Fair 2026 / Feria de recursos familiares y profesionales de Manhattan 2026 / 2026年曼哈顿家庭与专业资源博览会
DESCRIPTION:RSVP Here / RSVP aquí / 在此回复\n  \n\n\n \n \n  \nJoin us for the Manhattan Family & Professional Resource Fair! \n¡Únase a nosotros en la Feria de recursos familiares y profesionales de Manhattan! \n加入我们参加曼哈顿家庭和专业资源博览会！ \n  \n\n\nWhen / Cuándo / 什么时候: \nTuesday\, May 12\, 2026 \n9:00am – 2:00pm \n  \nWhere / Dónde / 在哪里: \nCUNY Graduate Center \n365 5th Ave\, Concourse Level\, New York\, NY 10016 \n  \nWhat: \n\nLearn about programs and services\nConnect with service provider organizations\nEnter a raffle for cash prizes\nEnjoy complimentary food\n\nQué: \n\nInfórmese sobre programas y servicios\nConéctese con organizaciones proveedoras de servicios\nParticipe en un sorteo para ganar premios en efectivo\nDisfrute de comida de cortesía\n\n  \n什么: \n\n了解项目和服务\n联系服务提供商\n参加抽奖赢取现金奖励\n享用免费餐饮\n\n\n  \nInformational Workshops: \n\nCamp & Recreation Programs: Creating Meaningful Experiences For All – 10:30am\nKeep Your Benefits Strong: Medicaid Basics & Recertification Tips – 12:00pm\n\n\n  \nHope to see you there! / ¡Esperamos verte allí! / 希望在那里见到你！ \n\n\n\nRSVP Here / RSVP aquí / 在此回复\n\nInterested in registering a booth?\n  \n \n  \nFor questions regarding booth registration\, please contact Wendy DeLeon at wdeleon@adaptcommunitynetwork.org.
URL:https://www.manhattanddcouncil.org/event/manhattan-family-professional-resource-fair-2025-2/
LOCATION:CUNY Graduate Center\, 365 5th Ave.\, Concourse Level\, New York\, NY\, 10016\, United States
END:VEVENT
BEGIN:VEVENT
DTSTART;TZID=America/New_York:20260519T100000
DTEND;TZID=America/New_York:20260519T120000
DTSTAMP:20260423T075151
CREATED:20250903T212858Z
LAST-MODIFIED:20250903T212858Z
UID:22478-1779184800-1779192000@www.manhattanddcouncil.org
SUMMARY:Manhattan DD Council Meeting
DESCRIPTION:Come and hear updates from providers\, OPWDD\, and New York City DOHMH \n\n\n\nLearn what’s happening as we continue to work to ensure services and supports for people with I/DD! \n\n\n\nHybrid Meeting – Join In Person OR Virtual \nIn Person:  \nTBD – More Info Coming Soon! \n  \nVirtual: \nJoin Zoom Meeting: \nhttps://zoom.us/j/97723827673?pwd=CDw2MFQvdvNvaIMgxOWiumRPmPiCBV.1 \nMeeting ID: 977 2382 7673 / Passcode: 983899 \nOne tap mobile: +19292056099\,\,97723827673#\,\,\,\,*983899#
URL:https://www.manhattanddcouncil.org/event/manhattan-dd-council-meeting-13-2-2-2-2-2-2-2-2-2-4-2-2-2-2-2-2-2/
LOCATION:NY
END:VEVENT
BEGIN:VEVENT
DTSTART;TZID=America/New_York:20260616T100000
DTEND;TZID=America/New_York:20260616T120000
DTSTAMP:20260423T075151
CREATED:20250903T212932Z
LAST-MODIFIED:20250903T212932Z
UID:22477-1781604000-1781611200@www.manhattanddcouncil.org
SUMMARY:Manhattan DD Council Meeting
DESCRIPTION:Come and hear updates from providers\, OPWDD\, and New York City DOHMH \n\n\n\nLearn what’s happening as we continue to work to ensure services and supports for people with I/DD! \n\n\n\nHybrid Meeting – Join In Person OR Virtual \nIn Person:  \nTBD – More Info Coming Soon! \n  \nVirtual: \nJoin Zoom Meeting: \nhttps://zoom.us/j/97723827673?pwd=CDw2MFQvdvNvaIMgxOWiumRPmPiCBV.1 \nMeeting ID: 977 2382 7673 / Passcode: 983899 \nOne tap mobile: +19292056099\,\,97723827673#\,\,\,\,*983899#
URL:https://www.manhattanddcouncil.org/event/manhattan-dd-council-meeting-13-2-2-2-2-2-2-2-2-2-4-2-2-2-2-2-2-3/
LOCATION:NY
END:VEVENT
END:VCALENDAR