BEGIN:VCALENDAR
VERSION:2.0
PRODID:-//Manhattan DD Council - ECPv6.15.18//NONSGML v1.0//EN
CALSCALE:GREGORIAN
METHOD:PUBLISH
X-WR-CALNAME:Manhattan DD Council
X-ORIGINAL-URL:https://www.manhattanddcouncil.org
X-WR-CALDESC:Events for Manhattan DD Council
REFRESH-INTERVAL;VALUE=DURATION:PT1H
X-Robots-Tag:noindex
X-PUBLISHED-TTL:PT1H
BEGIN:VTIMEZONE
TZID:America/New_York
BEGIN:DAYLIGHT
TZOFFSETFROM:-0500
TZOFFSETTO:-0400
TZNAME:EDT
DTSTART:20220313T070000
END:DAYLIGHT
BEGIN:STANDARD
TZOFFSETFROM:-0400
TZOFFSETTO:-0500
TZNAME:EST
DTSTART:20221106T060000
END:STANDARD
BEGIN:DAYLIGHT
TZOFFSETFROM:-0500
TZOFFSETTO:-0400
TZNAME:EDT
DTSTART:20230312T070000
END:DAYLIGHT
BEGIN:STANDARD
TZOFFSETFROM:-0400
TZOFFSETTO:-0500
TZNAME:EST
DTSTART:20231105T060000
END:STANDARD
BEGIN:DAYLIGHT
TZOFFSETFROM:-0500
TZOFFSETTO:-0400
TZNAME:EDT
DTSTART:20240310T070000
END:DAYLIGHT
BEGIN:STANDARD
TZOFFSETFROM:-0400
TZOFFSETTO:-0500
TZNAME:EST
DTSTART:20241103T060000
END:STANDARD
END:VTIMEZONE
BEGIN:VEVENT
DTSTART;TZID=America/New_York:20230607T100000
DTEND;TZID=America/New_York:20230607T120000
DTSTAMP:20260425T122542
CREATED:20230518T184559Z
LAST-MODIFIED:20230518T184602Z
UID:21576-1686132000-1686139200@www.manhattanddcouncil.org
SUMMARY:Manhattan Transition Committee Meeting
DESCRIPTION:This month\, come join us for a presentation and discussion on: \n\n\n\nCollege Options for Students withIntellectual & Developmental Disabilities \n\n\n\nhttps://zoom.us/j/99049545287 \n\n\n\nMeeting ID: 990 4954 5287One tap mobile: +19292056099\,\,99049545287#  \n\n\n\nCollege can be an exciting component of the preparation of young adults with disabilities to become productive members of their community.  Come join this session to learn about inclusive higher education options for students with intellectual disabilities in all five boroughs. \n\n\n\nWe will also have space for open discussion and networking for families\, school staff\, service provider agency representatives and others to discuss areas of interest and needs so we can best support youth in transition. All our welcome to join! \n\n\n\nIf you have any questions please feel free to contact us: \n\n\n\nDavid Summers\, AHRC NYC\, david.summers@ahrcnyc.orgAndrew Harris\, P138M\, aharris27@schools.nyc.gov
URL:https://www.manhattanddcouncil.org/event/manhattan-transition-committee-meeting/
LOCATION:NY
END:VEVENT
BEGIN:VEVENT
DTSTART;TZID=America/New_York:20230614T090000
DTEND;TZID=America/New_York:20230614T140000
DTSTAMP:20260425T122542
CREATED:20230328T014312Z
LAST-MODIFIED:20230518T185037Z
UID:21542-1686733200-1686751200@www.manhattanddcouncil.org
SUMMARY:Manhattan Family & Professional Resource Fair
DESCRIPTION:Register Here\n\n\nWHO: \n\n\n\nFor parents\, family members\,people with developmentaldisabilities\, and professionalsWHERE: \n\n\n\nCUNY Graduate Center  \n\n\n\n365 Fifth Avenue @ 34th St. (Concourse Level)New York\, NY 10016 \n\n\n\nWHEN: \n\n\n\nWednesday\, June 14\, 20239:00 AM-2:00 PM \n\n\n\n \n\n\n\nFREE ADMISSION \n\n\n\nFree cash raffles for Manhattan families! Free continental breakfast. Access to valuable resources and exhibitors. \n\n\n\nAre you signing up as a vendor? Click here to register for a vendor table.
URL:https://www.manhattanddcouncil.org/event/family-professional-resource-fair/
LOCATION:NY
END:VEVENT
BEGIN:VEVENT
DTSTART;TZID=America/New_York:20230620T100000
DTEND;TZID=America/New_York:20230620T120000
DTSTAMP:20260425T122542
CREATED:20220912T212443Z
LAST-MODIFIED:20220912T212445Z
UID:21351-1687255200-1687262400@www.manhattanddcouncil.org
SUMMARY:Manhattan DD Council Meeting
DESCRIPTION:Come and hear updates from providers\, OPWDD\, and New York City DOHMH \n\n\n\nLearn what’s happening as we continue to work to ensure services and supports for people with I/DD! \n\n\n\nhttps://zoom.us/j/93332919204?pwd=TVhLczZRMXRYSUpwZFFDei9vMnpOUT09 \n\n\n\nMeeting ID: 933 3291 9204Passcode: 183158One tap mobile: +16469313860\,\,93332919204#\,\,\,\,*183158#
URL:https://www.manhattanddcouncil.org/event/manhattan-dd-council-meeting-10/
LOCATION:NY
END:VEVENT
END:VCALENDAR