BEGIN:VCALENDAR
VERSION:2.0
PRODID:-//Manhattan DD Council - ECPv6.15.18//NONSGML v1.0//EN
CALSCALE:GREGORIAN
METHOD:PUBLISH
X-WR-CALNAME:Manhattan DD Council
X-ORIGINAL-URL:https://www.manhattanddcouncil.org
X-WR-CALDESC:Events for Manhattan DD Council
REFRESH-INTERVAL;VALUE=DURATION:PT1H
X-Robots-Tag:noindex
X-PUBLISHED-TTL:PT1H
BEGIN:VTIMEZONE
TZID:America/New_York
BEGIN:DAYLIGHT
TZOFFSETFROM:-0500
TZOFFSETTO:-0400
TZNAME:EDT
DTSTART:20230312T070000
END:DAYLIGHT
BEGIN:STANDARD
TZOFFSETFROM:-0400
TZOFFSETTO:-0500
TZNAME:EST
DTSTART:20231105T060000
END:STANDARD
BEGIN:DAYLIGHT
TZOFFSETFROM:-0500
TZOFFSETTO:-0400
TZNAME:EDT
DTSTART:20240310T070000
END:DAYLIGHT
BEGIN:STANDARD
TZOFFSETFROM:-0400
TZOFFSETTO:-0500
TZNAME:EST
DTSTART:20241103T060000
END:STANDARD
BEGIN:DAYLIGHT
TZOFFSETFROM:-0500
TZOFFSETTO:-0400
TZNAME:EDT
DTSTART:20250309T070000
END:DAYLIGHT
BEGIN:STANDARD
TZOFFSETFROM:-0400
TZOFFSETTO:-0500
TZNAME:EST
DTSTART:20251102T060000
END:STANDARD
END:VTIMEZONE
BEGIN:VEVENT
DTSTART;TZID=America/New_York:20240214T100000
DTEND;TZID=America/New_York:20240214T120000
DTSTAMP:20260425T000528
CREATED:20231002T023331Z
LAST-MODIFIED:20240109T144114Z
UID:21902-1707904800-1707912000@www.manhattanddcouncil.org
SUMMARY:Manhattan Adult Services Meet & Greet 2024
DESCRIPTION:Manhattan Adult Services Meet & Greet 2024\n\n\n\nWednesday February 14\, 2024\n10:00am-12:00pm\n  \nJoin Zoom Meeting: \nhttps://zoom.us/j/91949549003 \n  \nPrintable Flyer\n\n  \n\n\n\nLearn about programs & services for adults with intellectual & developmental disabilities living in Manhattan \n  \nWhat’s next after high school?A variety of organizations will be sharing about their programs and services: \nAdult Day Programs | Employment Services | & More! \n  \n\n\n\nParticipating Agencies\nADAPT Community Network • Advance Care Alliance • AHRC NYC • Braverhood • Care Design NY • Center for Family Support • Esperanza Center • Gateway Counseling Center • General Human Outreach • Goodwill NYNJ • Lifespire • NY Foundling • Open the Lid • The Shield • Sinergia • Tri-County Care • Unique Care • YAI \n  \nSponsored by Manhattan DD Council Transition Committee \nQuestions? aharris27@schools.nyc.gov
URL:https://www.manhattanddcouncil.org/event/manhattan-transition-committee-meeting-3/
LOCATION:NY
END:VEVENT
BEGIN:VEVENT
DTSTART;TZID=America/New_York:20240220T100000
DTEND;TZID=America/New_York:20240220T120000
DTSTAMP:20260425T000528
CREATED:20231002T023002Z
LAST-MODIFIED:20231002T023004Z
UID:21892-1708423200-1708430400@www.manhattanddcouncil.org
SUMMARY:Manhattan DD Council Meeting
DESCRIPTION:Come and hear updates from providers\, OPWDD\, and New York City DOHMH \n\n\n\nLearn what’s happening as we continue to work to ensure services and supports for people with I/DD! \n\n\n\nhttps://zoom.us/j/92502943960?pwd=RDJwWHo4bUJBS09qWHNVWUNKZGxaZz09 \n\n\n\nMeeting ID: 925 0294 3960Passcode: 927238
URL:https://www.manhattanddcouncil.org/event/manhattan-dd-council-meeting-6/
LOCATION:NY
END:VEVENT
BEGIN:VEVENT
DTSTART;TZID=America/New_York:20240229T190000
DTEND;TZID=America/New_York:20240229T200000
DTSTAMP:20260425T000528
CREATED:20240228T135612Z
LAST-MODIFIED:20240228T135612Z
UID:22032-1709233200-1709236800@www.manhattanddcouncil.org
SUMMARY:NYC Fair Budget Town Hall
DESCRIPTION:What’s In the Governor’s Budget? What Isn’t?\nInformation From Inside The System\nNYC FAIR’s Budget Town Hall\nThursday\, February 29th\n7:00-8:30 PM\nSend Us Your Questions\nClick Here:\nhttps://forms.gle/2ppPV211ghHZyQ8a8 \n\nClick here for Budget Town Hall Flier\nPlease Distribute Widely
URL:https://www.manhattanddcouncil.org/event/nyc-fair-budget-town-hall/
LOCATION:Via Zoom\, United States
END:VEVENT
END:VCALENDAR