BEGIN:VCALENDAR
VERSION:2.0
PRODID:-//Manhattan DD Council - ECPv6.15.18//NONSGML v1.0//EN
CALSCALE:GREGORIAN
METHOD:PUBLISH
X-WR-CALNAME:Manhattan DD Council
X-ORIGINAL-URL:https://www.manhattanddcouncil.org
X-WR-CALDESC:Events for Manhattan DD Council
REFRESH-INTERVAL;VALUE=DURATION:PT1H
X-Robots-Tag:noindex
X-PUBLISHED-TTL:PT1H
BEGIN:VTIMEZONE
TZID:America/New_York
BEGIN:DAYLIGHT
TZOFFSETFROM:-0500
TZOFFSETTO:-0400
TZNAME:EDT
DTSTART:20230312T070000
END:DAYLIGHT
BEGIN:STANDARD
TZOFFSETFROM:-0400
TZOFFSETTO:-0500
TZNAME:EST
DTSTART:20231105T060000
END:STANDARD
BEGIN:DAYLIGHT
TZOFFSETFROM:-0500
TZOFFSETTO:-0400
TZNAME:EDT
DTSTART:20240310T070000
END:DAYLIGHT
BEGIN:STANDARD
TZOFFSETFROM:-0400
TZOFFSETTO:-0500
TZNAME:EST
DTSTART:20241103T060000
END:STANDARD
BEGIN:DAYLIGHT
TZOFFSETFROM:-0500
TZOFFSETTO:-0400
TZNAME:EDT
DTSTART:20250309T070000
END:DAYLIGHT
BEGIN:STANDARD
TZOFFSETFROM:-0400
TZOFFSETTO:-0500
TZNAME:EST
DTSTART:20251102T060000
END:STANDARD
END:VTIMEZONE
BEGIN:VEVENT
DTSTART;TZID=America/New_York:20240301T100000
DTEND;TZID=America/New_York:20240301T120000
DTSTAMP:20260424T223758
CREATED:20240116T152753Z
LAST-MODIFIED:20240116T153004Z
UID:21994-1709287200-1709294400@www.manhattanddcouncil.org
SUMMARY:2024 Five Borough Virtual Legislative Breakfast
DESCRIPTION:2024-citywide-legislative-breakfast\nTo register for the breakfast use the following link: t.ly/l5lrk \n\nAll five of New York City’s Borough Developmental Disabilities Councils have joined together to address the NYS Budget for 2024-2025. \nHear from parents\, DSPs\, government and elected officials discuss issues pertaining to the needs of people with Intellectual and Developmental Disabilities and have your voice be heard! \n#InvestInMe
URL:https://www.manhattanddcouncil.org/event/2024-five-borough-virtual-legislative-breakfast/
LOCATION:NY
END:VEVENT
BEGIN:VEVENT
DTSTART;TZID=America/New_York:20240312T130000
DTEND;TZID=America/New_York:20240312T143000
DTSTAMP:20260424T223758
CREATED:20240228T135958Z
LAST-MODIFIED:20240228T145700Z
UID:22034-1710248400-1710253800@www.manhattanddcouncil.org
SUMMARY:IAC Meeting: Managed Care
DESCRIPTION:Is Managed Care on the Horizon?\nWhat Is Integrated Care?\nWhat’s the Difference?\nIAC invites you to join us to discuss the Integrated Care Model of service delivery\, and to get your feedback. Please join us\, and forward to your family groups. \nThank you and we look forward to an informative discussion\, \nTuesday\, March 12th\n1:00pm-2:30pm\nWini Schiff \nJoin Zoom Meeting \nTo call in\, click here
URL:https://www.manhattanddcouncil.org/event/iac-meeting-managed-care/
LOCATION:Via Zoom\, United States
END:VEVENT
BEGIN:VEVENT
DTSTART;TZID=America/New_York:20240313T100000
DTEND;TZID=America/New_York:20240313T120000
DTSTAMP:20260424T223758
CREATED:20240308T144045Z
LAST-MODIFIED:20240308T144053Z
UID:22038-1710324000-1710331200@www.manhattanddcouncil.org
SUMMARY:Manhattan Family & Provider Information Committee Meeting
DESCRIPTION:Manhattan Family & Provider Information Committee Meeting\nMarch 13 @ 10:00 AM – 12:00 PM\nJoin Zoom Meeting: https://us06web.zoom.us/j/89301405064?pwd=FWwedvAfb7ejNHa47uqkwakOUPCbJu.1 \nMeeting ID: 893 0140 5064 \nPasscode: 389488 \nFSS: Housing Supports and Changes to FR \nHOME MODIFICATION SERVICES \nThe Doorways to Independence program at ADAPT Community Network assists persons with physical disabilities\, the elderly and medically frail with their home modification and adaptive equipment needs. Learn about multiple funding sources and how you\, your family member\, neighbor and more could qualify. \nFAMILY REIMBURSEMENT \nThere are changes happening with the Family Reimbursement program. Please join us to learn what they are and how you may qualify for some assistance. \nIf you have any questions\, please feel free to contact us: \nWendy De Leon\, wdeleon@adaptcommunitynetwork.org \nLuisa Eusse-Roché\, leusse-roche@caredesignny.org
URL:https://www.manhattanddcouncil.org/event/manhattan-family-provider-information-committee-meeting-2/
LOCATION:Via Zoom\, United States
END:VEVENT
BEGIN:VEVENT
DTSTART;TZID=America/New_York:20240319T100000
DTEND;TZID=America/New_York:20240319T120000
DTSTAMP:20260424T223758
CREATED:20231002T023036Z
LAST-MODIFIED:20231002T023038Z
UID:21894-1710842400-1710849600@www.manhattanddcouncil.org
SUMMARY:Manhattan DD Council Meeting
DESCRIPTION:Come and hear updates from providers\, OPWDD\, and New York City DOHMH \n\n\n\nLearn what’s happening as we continue to work to ensure services and supports for people with I/DD! \n\n\n\nhttps://zoom.us/j/92502943960?pwd=RDJwWHo4bUJBS09qWHNVWUNKZGxaZz09 \n\n\n\nMeeting ID: 925 0294 3960Passcode: 927238
URL:https://www.manhattanddcouncil.org/event/manhattan-dd-council-meeting-7/
LOCATION:NY
END:VEVENT
END:VCALENDAR