BEGIN:VCALENDAR
VERSION:2.0
PRODID:-//Manhattan DD Council - ECPv6.15.18//NONSGML v1.0//EN
CALSCALE:GREGORIAN
METHOD:PUBLISH
X-ORIGINAL-URL:https://www.manhattanddcouncil.org
X-WR-CALDESC:Events for Manhattan DD Council
REFRESH-INTERVAL;VALUE=DURATION:PT1H
X-Robots-Tag:noindex
X-PUBLISHED-TTL:PT1H
BEGIN:VTIMEZONE
TZID:America/New_York
BEGIN:DAYLIGHT
TZOFFSETFROM:-0500
TZOFFSETTO:-0400
TZNAME:EDT
DTSTART:20230312T070000
END:DAYLIGHT
BEGIN:STANDARD
TZOFFSETFROM:-0400
TZOFFSETTO:-0500
TZNAME:EST
DTSTART:20231105T060000
END:STANDARD
BEGIN:DAYLIGHT
TZOFFSETFROM:-0500
TZOFFSETTO:-0400
TZNAME:EDT
DTSTART:20240310T070000
END:DAYLIGHT
BEGIN:STANDARD
TZOFFSETFROM:-0400
TZOFFSETTO:-0500
TZNAME:EST
DTSTART:20241103T060000
END:STANDARD
BEGIN:DAYLIGHT
TZOFFSETFROM:-0500
TZOFFSETTO:-0400
TZNAME:EDT
DTSTART:20250309T070000
END:DAYLIGHT
BEGIN:STANDARD
TZOFFSETFROM:-0400
TZOFFSETTO:-0500
TZNAME:EST
DTSTART:20251102T060000
END:STANDARD
END:VTIMEZONE
BEGIN:VEVENT
DTSTART;TZID=America/New_York:20241009T100000
DTEND;TZID=America/New_York:20241009T120000
DTSTAMP:20260424T122809
CREATED:20240916T174825Z
LAST-MODIFIED:20241009T184241Z
UID:22151-1728468000-1728475200@www.manhattanddcouncil.org
SUMMARY:Manhattan Transition Committee Meeting
DESCRIPTION:What’s After High School?\nNavigating Services for Adults with I/DD\n\n \n  \n\nPresentation Slides Available Here\n\n \nJoin us to learn about:\n\n\nDay Habilitation Programs\nSupported Employment\nOPWDD Services\nNavigating the System\nFinding the Right Program for Your Child\n\n\n \nWe will have space for open discussion and networking for families\, school staff\, service provider agency representatives and others supporting youth in transition. All are welcome to join!\n \n\n\n\nIf you have any questions please feel free to contact us: \nAndrew Harris\, P138M\, aharris27@schools.nyc.gov \n\n\n \nPat Liu Chang\, GHO\, pat@ghoinc.org
URL:https://www.manhattanddcouncil.org/event/manhattan-transition-committee-meeting-4-2/
LOCATION:NY
END:VEVENT
BEGIN:VEVENT
DTSTART;TZID=America/New_York:20241011T090000
DTEND;TZID=America/New_York:20241011T140000
DTSTAMP:20260424T122809
CREATED:20241002T131029Z
LAST-MODIFIED:20241002T134949Z
UID:22176-1728637200-1728655200@www.manhattanddcouncil.org
SUMMARY:XX Conferencia Latina de YAI 2024
DESCRIPTION:XX Conferencia Latina de YAI 2024\n  \nviernes 11 de octubre\n9:00 AM – 2:00 PM (puertas abren a las 8:30 AM) \n   \nCUNY Graduate Center \n365 5th Ave\, \nNew York\, NY 10016 \n  \nyai-conferencia-latina-2024-postcard-us-portrait-2-1 \n  \nYAI se complace en celebrar los 20 años de la Conferencia Latina el 11 de octubre de 2024. Esperamos que se una a nosotros en este evento especial. #YAILatino \n  \nFor Spanish speakers: The YAI Latino Conference will be conducted entirely in Spanish. \n  \nRegistro
URL:https://www.manhattanddcouncil.org/event/xx-conferencia-latina-de-yai-2024/
LOCATION:CUNY Graduate Center\, 365 5th Ave.\, Concourse Level\, New York\, NY\, 10016\, United States
END:VEVENT
BEGIN:VEVENT
DTSTART;TZID=America/New_York:20241015T100000
DTEND;TZID=America/New_York:20241015T120000
DTSTAMP:20260424T122809
CREATED:20240827T224017Z
LAST-MODIFIED:20240904T151430Z
UID:22137-1728986400-1728993600@www.manhattanddcouncil.org
SUMMARY:Manhattan DD Council Meeting
DESCRIPTION:Come and hear updates from providers\, OPWDD\, and New York City DOHMH \n\n\n\nLearn what’s happening as we continue to work to ensure services and supports for people with I/DD! \n\n\n\nHybrid Meeting – Join In Person OR Virtual \nIn Person:  \nSinergia \n2082 Lexington Ave\, 4th Floor\, NY\, NY 10035 \nVirtual: \nJoin Zoom Meeting: \nhttps://zoom.us/j/97723827673?pwd=CDw2MFQvdvNvaIMgxOWiumRPmPiCBV.1 \nMeeting ID: 977 2382 7673 / Passcode: 983899 \nOne tap mobile: +19292056099\,\,97723827673#\,\,\,\,*983899#
URL:https://www.manhattanddcouncil.org/event/manhattan-dd-council-meeting-13-2-2/
LOCATION:Sinergia\, 2082 Lexington Ave\, New York\, NY\, 10035\, United States
END:VEVENT
BEGIN:VEVENT
DTSTART;TZID=America/New_York:20241016T100000
DTEND;TZID=America/New_York:20241016T153000
DTSTAMP:20260424T122809
CREATED:20241009T021250Z
LAST-MODIFIED:20241009T021834Z
UID:22180-1729072800-1729092600@www.manhattanddcouncil.org
SUMMARY:ADAPT Family Connect Summit
DESCRIPTION:  \n \n  \nVirtual Family Connect Summit \nWednesday | October 16\, 2024 \n  \nJoin us at our 9th Annual Family Connect Summit | Creating the Future \nRegister today and learn more about the sessions by clicking here: \n\nhttps://adaptcommunitynetwork.org/summit2024 \n  \nWe offer a variety of sessions presented by experts in topic areas such as: \n\nSupporting Individuals on the Autism Spectrum in Medical Settings\nHow to Supplement In-Home Support Outside of the OPWDD Waiver & School Services\nNavigating the Special Education System and the Need for Good Evaluations\nBenefits 101\nUnderstanding Benefits: Qualifications and How to Apply\n\n\nFor more information on sponsorships contact Michael Linbrunner:\nmlinbrunner@adaptcommunitynetwork.org \n  \n\n  \nCumbre de conexión familiar virtual\nMiércoles | 16 de octubre de 2024 \n  \nÚnase a nosotros en nuestra novena Cumbre Anual Family Connect | Creando el futuro \nRegístrese hoy y obtenga más información sobre las sesiones haciendo clic aquí: \n  \nhttps://adaptcommunitynetwork.org/summit2024 \n  \nOfrecemos una variedad de sesiones presentadas por expertos en áreas temáticas tales como: \n\nApoyo a personas en el espectro del autismo en entornos médicos\nCómo complementar el apoyo en el hogar fuera de la exención de la OPWDD y los servicios escolares\nNavegando por el sistema de educación especial y la necesidad de buenas evaluaciones\nBeneficios 101\nComprensión de los beneficios: calificaciones y cómo presentar una solicitud\n\nPara obtener más información sobre patrocinios\, comuníquese con Michael Linbrunner:\nmlinbrunner@adaptcommunitynetwork.org \n  \n\n  \n虚拟家庭连接峰会\n星期三 | 2024 年 10 月 16 日 \n  \n加入我们的第九届年度家庭联系峰会 |创造未来 \n立即注册并单击此处了解有关会议的更多信息：\nhttps://adaptcommunitynetwork.org/summit2024 \n我们提供由专家在以下主题领域主持的各种会议： \n\n在医疗环境中支持自闭症谱系人士\n如何在 OPWDD 豁免和学校服务之外补充家庭支持\n“特殊教育体系的导航和良好评估的需要\n福利 101\n了解福利：资格和如何申请\n\n有关赞助的更多信息，请联系 Michael Linbrunner：\nmlinbrunner@adaptcommunitynetwork.org
URL:https://www.manhattanddcouncil.org/event/adapt-family-connect-summit/
LOCATION:NY
END:VEVENT
END:VCALENDAR