BEGIN:VCALENDAR
VERSION:2.0
PRODID:-//Manhattan DD Council - ECPv6.15.18//NONSGML v1.0//EN
CALSCALE:GREGORIAN
METHOD:PUBLISH
X-ORIGINAL-URL:https://www.manhattanddcouncil.org
X-WR-CALDESC:Events for Manhattan DD Council
REFRESH-INTERVAL;VALUE=DURATION:PT1H
X-Robots-Tag:noindex
X-PUBLISHED-TTL:PT1H
BEGIN:VTIMEZONE
TZID:America/New_York
BEGIN:DAYLIGHT
TZOFFSETFROM:-0500
TZOFFSETTO:-0400
TZNAME:EDT
DTSTART:20240310T070000
END:DAYLIGHT
BEGIN:STANDARD
TZOFFSETFROM:-0400
TZOFFSETTO:-0500
TZNAME:EST
DTSTART:20241103T060000
END:STANDARD
BEGIN:DAYLIGHT
TZOFFSETFROM:-0500
TZOFFSETTO:-0400
TZNAME:EDT
DTSTART:20250309T070000
END:DAYLIGHT
BEGIN:STANDARD
TZOFFSETFROM:-0400
TZOFFSETTO:-0500
TZNAME:EST
DTSTART:20251102T060000
END:STANDARD
BEGIN:DAYLIGHT
TZOFFSETFROM:-0500
TZOFFSETTO:-0400
TZNAME:EDT
DTSTART:20260308T070000
END:DAYLIGHT
BEGIN:STANDARD
TZOFFSETFROM:-0400
TZOFFSETTO:-0500
TZNAME:EST
DTSTART:20261101T060000
END:STANDARD
END:VTIMEZONE
BEGIN:VEVENT
DTSTART;TZID=America/New_York:20250409T100000
DTEND;TZID=America/New_York:20250409T120000
DTSTAMP:20260424T024850
CREATED:20250207T135157Z
LAST-MODIFIED:20250408T153717Z
UID:22310-1744192800-1744200000@www.manhattanddcouncil.org
SUMMARY:MFSSAC Meeting - Guardianship Part 2
DESCRIPTION:Guardianship & Future Care Planning\nPart  TWO\nWednesday\, April 9th\, @ 10:00 am\n“Assistance  with the Application”\nStephanie Baran\, Esq.\, AHRC NYC\n\nRegistration link will be sent to ALL Part One participants\nMary McGuire-Weafer & Jackie Goldberg\, Co-Chairs / Manhattanfamilyadvisory@gmail.com
URL:https://www.manhattanddcouncil.org/event/mfssac-meeting-guardianship-part-2/
LOCATION:NY
END:VEVENT
BEGIN:VEVENT
DTSTART;TZID=America/New_York:20250415T100000
DTEND;TZID=America/New_York:20250415T120000
DTSTAMP:20260424T024850
CREATED:20250318T150817Z
LAST-MODIFIED:20250415T140008Z
UID:22353-1744711200-1744718400@www.manhattanddcouncil.org
SUMMARY:Manhattan DD Council Meeting
DESCRIPTION:Come and hear updates from providers\, OPWDD\, and New York City DOHMH \n\n\n\nLearn what’s happening as we continue to work to ensure services and supports for people with I/DD! \n\n\n\nHybrid Meeting – Join In Person OR Virtual \nIn Person:  \nNew York Lawyers for the Public Interest \n151 W 30th St\, 11th Floor\, NY\, NY 10001 \nVirtual: \nJoin Zoom Meeting: \nhttps://zoom.us/j/97723827673?pwd=CDw2MFQvdvNvaIMgxOWiumRPmPiCBV.1 \nMeeting ID: 977 2382 7673 / Passcode: 983899 \nOne tap mobile: +19292056099\,\,97723827673#\,\,\,\,*983899#
URL:https://www.manhattanddcouncil.org/event/manhattan-dd-council-meeting-13-2-2-2-2-2-2-2-3/
LOCATION:NY
END:VEVENT
BEGIN:VEVENT
DTSTART;TZID=America/New_York:20250423T100000
DTEND;TZID=America/New_York:20250423T113000
DTSTAMP:20260424T024850
CREATED:20250327T173319Z
LAST-MODIFIED:20250502T122803Z
UID:22358-1745402400-1745407800@www.manhattanddcouncil.org
SUMMARY:Family Reimbursement Program (with MFPIC & MFSSAC)
DESCRIPTION:We are excited to partner with MFSSAC for our next webinar about the OPWDD Family Reimbursement Program. We are providing an overview of the eligibility requirements and recent changes to the program. We’ll also review the allowable and non-allowable expenses under the program\, giving you clear guidance on how to make the most of this support. Additionally\, we’ll discuss which agencies still have funding available and how you can access these resources. This session will equip you with all the necessary information to navigate the program effectively and ensure you’re making the most of the funding opportunities. \nPresentation Slides from Meeting: \nmfpic-family-reimbursement
URL:https://www.manhattanddcouncil.org/event/family-reimbursement-program-with-mfpic-mfssac/
LOCATION:NY
END:VEVENT
END:VCALENDAR