BEGIN:VCALENDAR
VERSION:2.0
PRODID:-//Manhattan DD Council - ECPv6.15.18//NONSGML v1.0//EN
CALSCALE:GREGORIAN
METHOD:PUBLISH
X-WR-CALNAME:Manhattan DD Council
X-ORIGINAL-URL:https://www.manhattanddcouncil.org
X-WR-CALDESC:Events for Manhattan DD Council
REFRESH-INTERVAL;VALUE=DURATION:PT1H
X-Robots-Tag:noindex
X-PUBLISHED-TTL:PT1H
BEGIN:VTIMEZONE
TZID:America/New_York
BEGIN:DAYLIGHT
TZOFFSETFROM:-0500
TZOFFSETTO:-0400
TZNAME:EDT
DTSTART:20240310T070000
END:DAYLIGHT
BEGIN:STANDARD
TZOFFSETFROM:-0400
TZOFFSETTO:-0500
TZNAME:EST
DTSTART:20241103T060000
END:STANDARD
BEGIN:DAYLIGHT
TZOFFSETFROM:-0500
TZOFFSETTO:-0400
TZNAME:EDT
DTSTART:20250309T070000
END:DAYLIGHT
BEGIN:STANDARD
TZOFFSETFROM:-0400
TZOFFSETTO:-0500
TZNAME:EST
DTSTART:20251102T060000
END:STANDARD
BEGIN:DAYLIGHT
TZOFFSETFROM:-0500
TZOFFSETTO:-0400
TZNAME:EDT
DTSTART:20260308T070000
END:DAYLIGHT
BEGIN:STANDARD
TZOFFSETFROM:-0400
TZOFFSETTO:-0500
TZNAME:EST
DTSTART:20261101T060000
END:STANDARD
END:VTIMEZONE
BEGIN:VEVENT
DTSTART;TZID=America/New_York:20250611T100000
DTEND;TZID=America/New_York:20250611T120000
DTSTAMP:20260423T234535
CREATED:20240917T120836Z
LAST-MODIFIED:20250603T175820Z
UID:22164-1749636000-1749643200@www.manhattanddcouncil.org
SUMMARY:Manhattan Transition Committee Meeting
DESCRIPTION:Resources & Services for Employment\nPresented by Chinese-American Planning Council \n  \nIn Person: \n45 Suffolk Street\, 2nd Floor\, NY\, NY 10002 \n  \nVirtual: \nhttps://zoom.us/j/96729685164?pwd=azKjvgBmyjv871qc0bj2a8KBfwsoa5.1 \nMeeting ID: 967 2968 5164 / Passcode: 351938 \nOne tap mobile: +16469313860\,\,96729685164#\,\,\,\,*351938# \n\n \nRSVP Here\n \n\n \nWe will have space for open discussion and networking for families\, school staff\, service provider agency representatives and others supporting youth in transition. All are welcome to join! \n\n\n\n  \nIf you have any questions please feel free to contact us: \nAndrew Harris\, P138M\, aharris27@schools.nyc.gov \n\n\n \nPat Liu Chang\, GHO\, pat@ghoinc.org
URL:https://www.manhattanddcouncil.org/event/manhattan-transition-committee-meeting-4-2-3-2-2/
LOCATION:NY
END:VEVENT
BEGIN:VEVENT
DTSTART;TZID=America/New_York:20250617T100000
DTEND;TZID=America/New_York:20250617T120000
DTSTAMP:20260423T234535
CREATED:20241017T191540Z
LAST-MODIFIED:20250602T134652Z
UID:22204-1750154400-1750161600@www.manhattanddcouncil.org
SUMMARY:Manhattan DD Council Meeting
DESCRIPTION:Come and hear updates from providers\, OPWDD\, and New York City DOHMH \n\n\n\nLearn what’s happening as we continue to work to ensure services and supports for people with I/DD! \n\n\n\nHybrid Meeting – Join In Person OR Virtual \nIn Person:  \nAHRC: 83 Maiden Lane\, Room 1315\, NY\, NY 10038 \n  \nVirtual: \nJoin Zoom Meeting: \nhttps://zoom.us/j/97723827673?pwd=CDw2MFQvdvNvaIMgxOWiumRPmPiCBV.1 \nMeeting ID: 977 2382 7673 / Passcode: 983899 \nOne tap mobile: +19292056099\,\,97723827673#\,\,\,\,*983899#
URL:https://www.manhattanddcouncil.org/event/manhattan-dd-council-meeting-13-2-2-2-2-2-2-2-2-2/
LOCATION:NY
END:VEVENT
BEGIN:VEVENT
DTSTART;TZID=America/New_York:20250620T090000
DTEND;TZID=America/New_York:20250620T140000
DTSTAMP:20260423T234535
CREATED:20250415T144829Z
LAST-MODIFIED:20250520T172950Z
UID:22387-1750410000-1750428000@www.manhattanddcouncil.org
SUMMARY:Manhattan Family & Professional Resource Fair 2025 / Feria de recursos familiares y profesionales de Manhattan 2025 / 2025年曼哈顿家庭与专业资源博览会
DESCRIPTION:Join us for the Manhattan Family & Professional Resource Fair! \n¡Únase a nosotros en la Feria de recursos familiares y profesionales de Manhattan! \n加入我们参加曼哈顿家庭和专业资源博览会！ \n\n\n  \n\n\nWhen / Cuándo / 什么时候: \nFriday\, June 20\, 2025 \n9:00am – 2:00pm \n  \nWhere / Dónde / 在哪里: \nCUNY Graduate Center \n365 5th Ave\, Concourse Level\, New York\, NY 10016 \n  \nWhat: \n\nLearn about programs and services\nConnect with service provider organizations\nEnter a raffle for cash prizes\nEnjoy complimentary food\n\n  \nQué: \n\nInfórmese sobre programas y servicios\nConéctese con organizaciones proveedoras de servicios\nParticipe en un sorteo para ganar premios en efectivo\nDisfrute de comida de cortesía\n\n  \n什么: \n\n了解项目和服务\n联系服务提供商\n参加抽奖赢取现金奖励\n享用免费餐饮\n\n  \nHope to see you there! / ¡Esperamos verte allí! / 希望在那里见到你！ \n\n\n\nRSVP Here / RSVP aquí / 在此回复\n  \n \n \n \nInterested in hosting a booth?\n  \nPlease see Booth Registration Form for instructions on how to participate as an exhibitor at the event. \nIf you have any questions related to booth registration\, feel free to contact Wendy DeLeon at wdeleon@adaptcommunitynetwork.org.
URL:https://www.manhattanddcouncil.org/event/manhattan-family-professional-resource-fair-2025/
LOCATION:CUNY Graduate Center\, 365 5th Ave.\, Concourse Level\, New York\, NY\, 10016\, United States
END:VEVENT
BEGIN:VEVENT
DTSTART;TZID=America/New_York:20250623T100000
DTEND;TZID=America/New_York:20250623T110000
DTSTAMP:20260423T234535
CREATED:20250610T165032Z
LAST-MODIFIED:20250610T165116Z
UID:22427-1750672800-1750676400@www.manhattanddcouncil.org
SUMMARY:Save Our Services (SOS) Zoom Rally
DESCRIPTION:Why Worry About Cuts to Medicaid?\nAttend the\nSOS* Zoom Rally\n  \nMEDICAID Pays for Comm Hab\nMEDICAID Pays for Day & Employment Programs\nMEDICAID Pays for Residential Care\nMEDICAID Pays for OT\, PT\, Speech & Other Therapies in Schools\nMEDICAID Pays for Self-Direction \nAnd that’s Not All \nJoin us for a Virtual Rally to: \n🔍 Learn how these cuts will affect YOU and your loved ones\n💬 Hear directly from people supported\, families\, and frontline staff\n📢 Find out how YOU can take action to stop these devastating changes \nREGISTER NOW\nOrganized by: \n*Save Our Services IDD is the collaboration of Family Groups \nENYDDA\, Family Committee of DDAWNY\, L.I.A.N.D.D.\, NYC FAIR & NYC DEVELOPMENTAL DISABILITIES (DD) Councils:\nBrooklyn\, Bronx\, Manhattan\, Queens\, Staten Island
URL:https://www.manhattanddcouncil.org/event/save-our-services-sos-zoom-rally/
LOCATION:NY
END:VEVENT
BEGIN:VEVENT
DTSTART;TZID=America/New_York:20250624T100000
DTEND;TZID=America/New_York:20250624T113000
DTSTAMP:20260423T234535
CREATED:20250616T184459Z
LAST-MODIFIED:20250616T190315Z
UID:22432-1750759200-1750764600@www.manhattanddcouncil.org
SUMMARY:ADAPT Community Network: Supported Decision-Making - Independence\, Rights & Housing
DESCRIPTION:This workshop provides an overview of Supported Decision-Making (SDM) as an alternative to guardianship for individuals with I/DD and Autism. Participants will learn how the SDMNY project has advanced self determination\, independence\, inclusion\, and dignity—while preserving individuals’ legal rights and decision making power in all areas of life\, including housing. Attendees will come away with an understanding of the key differences between guardianship and SDM\, how the SDMNY facilitation process works\, and how Supported Decision-Making Agreements (SDMAs) are being implemented. The presentation will also cover the impact of New York’s new SDM Law (Mental Hygiene Law Article 82). \n\nRegister Here\n  \nPRESENTED BY:  \nMELISSA WILCOX \nMelissa is a trained Supported Decision-Making Facilitator and Certified Personal Outcome Measures Interviewer. Since coming to ADAPT she has served as Director of Residential Services in Staten Island and Manhattan. She is a certified Housing Navigator and Housing Ambassador. \nKAREN LIEBMAN \nKaren oversees the Adult Day and Residential Programs Admissions Units and also collaborates with programs across the agency to ensure services and supports are person-centered. Karen is a trained Supported Decision Making Facilitator and Mentor. \nWENDY DE LEON \nFor the past seven years\, Wendy has been the Director of Housing Assistance Services at ADAPT Community Network\, where she continues to advocate for inclusive\, supportive housing solutions that empower individuals with disabilities to live independently and with dignity. \n  \nsupported-decision-making-flyer-4
URL:https://www.manhattanddcouncil.org/event/adapt-community-network-supported-decision-making-independence-rights-housing/
LOCATION:NY
END:VEVENT
END:VCALENDAR