BEGIN:VCALENDAR
VERSION:2.0
PRODID:-//Manhattan DD Council - ECPv6.15.18//NONSGML v1.0//EN
CALSCALE:GREGORIAN
METHOD:PUBLISH
X-WR-CALNAME:Manhattan DD Council
X-ORIGINAL-URL:https://www.manhattanddcouncil.org
X-WR-CALDESC:Events for Manhattan DD Council
REFRESH-INTERVAL;VALUE=DURATION:PT1H
X-Robots-Tag:noindex
X-PUBLISHED-TTL:PT1H
BEGIN:VTIMEZONE
TZID:America/New_York
BEGIN:DAYLIGHT
TZOFFSETFROM:-0500
TZOFFSETTO:-0400
TZNAME:EDT
DTSTART:20250309T070000
END:DAYLIGHT
BEGIN:STANDARD
TZOFFSETFROM:-0400
TZOFFSETTO:-0500
TZNAME:EST
DTSTART:20251102T060000
END:STANDARD
BEGIN:DAYLIGHT
TZOFFSETFROM:-0500
TZOFFSETTO:-0400
TZNAME:EDT
DTSTART:20260308T070000
END:DAYLIGHT
BEGIN:STANDARD
TZOFFSETFROM:-0400
TZOFFSETTO:-0500
TZNAME:EST
DTSTART:20261101T060000
END:STANDARD
BEGIN:DAYLIGHT
TZOFFSETFROM:-0500
TZOFFSETTO:-0400
TZNAME:EDT
DTSTART:20270314T070000
END:DAYLIGHT
BEGIN:STANDARD
TZOFFSETFROM:-0400
TZOFFSETTO:-0500
TZNAME:EST
DTSTART:20271107T060000
END:STANDARD
END:VTIMEZONE
BEGIN:VEVENT
DTSTART;TZID=America/New_York:20260114T100000
DTEND;TZID=America/New_York:20260114T113000
DTSTAMP:20260423T133251
CREATED:20260108T163522Z
LAST-MODIFIED:20260108T163522Z
UID:22577-1768384800-1768390200@www.manhattanddcouncil.org
SUMMARY:Manhattan Family & Provider Information Committee Meeting
DESCRIPTION:Meeting Focus: \nFamily Reimbursement\n  \nJoin the Manhattan Family & Provider Information Committee for an open conversation and resource-sharing session designed to keep our community informed and connected. \nThis session will focus on Family Reimbursement and will feature providers discussing how their individual programs are run. \nThis meeting brings together families\, caregivers\, and service providers to share information about services\, supports\, and advocacy for people with developmental disabilities. Participants are encouraged to learn\, ask questions\, and engage in meaningful discussion. \n  \nRegistration (required): \n\nPlease register in advance using the link below:\nhttps://us06web.zoom.us/meeting/register/DuFCpWUWSBaIliNkwiL5iw \n  \nAfter registering\, you will receive a confirmation email with information on how to join the meeting. \nWe look forward to your participation and to continuing to strengthen our community through shared knowledge and collaboration.
URL:https://www.manhattanddcouncil.org/event/manhattan-family-provider-information-committee-meeting-7/
LOCATION:Zoom
END:VEVENT
BEGIN:VEVENT
DTSTART;TZID=America/New_York:20260127T100000
DTEND;TZID=America/New_York:20260127T120000
DTSTAMP:20260423T133251
CREATED:20250903T212503Z
LAST-MODIFIED:20260126T142510Z
UID:22469-1769508000-1769515200@www.manhattanddcouncil.org
SUMMARY:Manhattan DD Council Meeting
DESCRIPTION:Come and hear updates from providers\, OPWDD\, and New York City DOHMH \n\n\n\nLearn what’s happening as we continue to work to ensure services and supports for people with I/DD! \n\n\n\n  \nVirtual Meeting Only \n(Due to Snowstorm) \n  \nJoin Zoom Meeting: \nhttps://zoom.us/j/97723827673?pwd=CDw2MFQvdvNvaIMgxOWiumRPmPiCBV.1 \nMeeting ID: 977 2382 7673 / Passcode: 983899 \nOne tap mobile: +19292056099\,\,97723827673#\,\,\,\,*983899#
URL:https://www.manhattanddcouncil.org/event/manhattan-dd-council-meeting-13-2-2-2-2-2-2-2-2-2-4-2-3-2/
LOCATION:AHRC\, 83 Maiden Lane\, New York\, NY\, 10038\, United States
END:VEVENT
END:VCALENDAR